BEGIN:VCALENDAR
VERSION:2.0
PRODID:-//Roots and Wings Distillery - ECPv6.15.20//NONSGML v1.0//EN
CALSCALE:GREGORIAN
METHOD:PUBLISH
X-ORIGINAL-URL:https://rootsandwingsdistillery.ca
X-WR-CALDESC:Events for Roots and Wings Distillery
REFRESH-INTERVAL;VALUE=DURATION:PT1H
X-Robots-Tag:noindex
X-PUBLISHED-TTL:PT1H
BEGIN:VTIMEZONE
TZID:UTC
BEGIN:STANDARD
TZOFFSETFROM:+0000
TZOFFSETTO:+0000
TZNAME:UTC
DTSTART:20220101T000000
END:STANDARD
END:VTIMEZONE
BEGIN:VEVENT
DTSTART;TZID=UTC:20240224T183000
DTEND;TZID=UTC:20240224T210000
DTSTAMP:20260423T045116
CREATED:20240122T201354Z
LAST-MODIFIED:20240131T220006Z
UID:10000009-1708799400-1708808400@rootsandwingsdistillery.ca
SUMMARY:Initial Necklace Design Workshop
DESCRIPTION:Necklace Design with Simpleries No. 3\n  \nJoin us for a unique and creative experience at Roots and Wings Distillery as we delve into the art of making and designing initial necklaces. Get ready to unleash your inner artist and craft a personalized piece that reflects your individual style and personality. \nDuring this special event\, you’ll receive all the materials and guidance needed to create your very own initial necklace. Whether you’re making it for yourself or as a thoughtful gift for a loved one\, this hands-on activity is sure to be both fun and rewarding. \nIn addition to the necklace-making workshop\, you’ll also have the opportunity to savor a signature cocktail crafted by the talented mixologists at Roots and Wings Distillery. Accompanying your drink will be a delicious chewy pretzel\, providing the perfect pairing to complement your creative endeavors. \nThe event is priced at $63 per person\, which includes the necklace-making session\, all necessary supplies\, and the delightful cocktail and pretzel pairing. Don’t miss this chance to indulge in a delightful evening of creativity\, craftsmanship\, and conviviality at Roots and Wings Distillery. \nWhat to Expect: \nYou and your friends can design initial necklaces together! In an easy 4 step process we will create personalized necklaces that is custom-made on the spot for you! It’s done in four simple steps – 1) Pick a pendant 2) Choose a chain 3) Settle on a letter 4) Watch as we create the initial jewelry of your dreams! \n*get a layering chain necklace for $17.50\, 50% off the original price! \n  \n 
URL:https://rootsandwingsdistillery.ca/event/initial-necklace-design-workshop/
LOCATION:Roots and Wings Distillery\, 7897 240th Street\, Langley\, British Columbia\, V1M 3P9\, Canada
ATTACH;FMTTYPE=image/webp:https://rootsandwingsdistillery.ca/wp-content/uploads/2023/12/s804458613698270572_p113_i5_w1365.webp
ORGANIZER;CN="Chelsea del Rosario":MAILTO:simpleriesshop@gmail.com
END:VEVENT
BEGIN:VEVENT
DTSTART;TZID=UTC:20240128T183000
DTEND;TZID=UTC:20240128T203000
DTSTAMP:20260423T045116
CREATED:20231214T203538Z
LAST-MODIFIED:20240122T173504Z
UID:10000004-1706466600-1706473800@rootsandwingsdistillery.ca
SUMMARY:Necklace Design with Simpleries January 28th - Rescheduled Class
DESCRIPTION:Necklace Design with Simpleries\n  \nJoin us for a unique and creative experience at Roots and Wings Distillery as we delve into the art of making and designing initial necklaces. Get ready to unleash your inner artist and craft a personalized piece that reflects your individual style and personality. \nDuring this special event\, you’ll receive all the materials and guidance needed to create your very own initial necklace. Whether you’re making it for yourself or as a thoughtful gift for a loved one\, this hands-on activity is sure to be both fun and rewarding. \nIn addition to the necklace-making workshop\, you’ll also have the opportunity to savor a signature cocktail crafted by the talented mixologists at Roots and Wings Distillery. Accompanying your drink will be a delicious chewy pretzel\, providing the perfect pairing to complement your creative endeavors. \nThe event is priced at $60 per person\, which includes the necklace-making session\, all necessary supplies\, and the delightful cocktail and pretzel pairing. Don’t miss this chance to indulge in a delightful evening of creativity\, craftsmanship\, and conviviality at Roots and Wings Distillery. \nWhat to Expect: \nYou and your friends can design initial necklaces together! In an easy 4 step process we will create personalized necklaces that is custom-made on the spot for you! It’s done in four simple steps – 1) Pick a pendant 2) Choose a chain 3) Settle on a letter 4) Watch as we create the initial jewelry of your dreams! \n*get a layering chain necklace for $17.50\, 50% off the original price! \n  \n  \n 
URL:https://rootsandwingsdistillery.ca/event/necklace-design-with-simpleries-january-20th/
LOCATION:Roots and Wings Distillery\, 7897 240th Street\, Langley\, British Columbia\, V1M 3P9\, Canada
CATEGORIES:Life Music
ATTACH;FMTTYPE=image/webp:https://rootsandwingsdistillery.ca/wp-content/uploads/2023/12/s804458613698270572_p113_i5_w1365.webp
ORGANIZER;CN="Chelsea del Rosario":MAILTO:simpleriesshop@gmail.com
END:VEVENT
BEGIN:VEVENT
DTSTART;TZID=UTC:20231220T183000
DTEND;TZID=UTC:20231220T210000
DTSTAMP:20260423T045116
CREATED:20231207T173509Z
LAST-MODIFIED:20231214T235238Z
UID:10000003-1703097000-1703106000@rootsandwingsdistillery.ca
SUMMARY:Necklace Design with Simpleries
DESCRIPTION:Necklace Design with Simpleries\n  \nJoin us for a unique and creative experience at Roots and Wings Distillery as we delve into the art of making and designing initial necklaces. Get ready to unleash your inner artist and craft a personalized piece that reflects your individual style and personality. \nDuring this special event\, you’ll receive all the materials and guidance needed to create your very own initial necklace. Whether you’re making it for yourself or as a thoughtful gift for a loved one\, this hands-on activity is sure to be both fun and rewarding. \nIn addition to the necklace-making workshop\, you’ll also have the opportunity to savor a signature cocktail crafted by the talented mixologists at Roots and Wings Distillery. Accompanying your drink will be a delicious chewy pretzel\, providing the perfect pairing to complement your creative endeavors. \nThe event is priced at $60 per person\, which includes the necklace-making session\, all necessary supplies\, and the delightful cocktail and pretzel pairing. Don’t miss this chance to indulge in a delightful evening of creativity\, craftsmanship\, and conviviality at Roots and Wings Distillery. \nWhat to Expect: \nYou and your friends can design initial necklaces together! In an easy 4 step process we will create personalized necklaces that is custom-made on the spot for you! It’s done in four simple steps – 1) Pick a pendant 2) Choose a chain 3) Settle on a letter 4) Watch as we create the initial jewelry of your dreams! \n*get a layering chain necklace for $17.50\, 50% off the original price! \n  \n  \n 
URL:https://rootsandwingsdistillery.ca/event/necklace-making-workshop-with-simpleries/
LOCATION:Roots and Wings Distillery\, 7897 240th Street\, Langley\, British Columbia\, V1M 3P9\, Canada
ORGANIZER;CN="Chelsea del Rosario":MAILTO:simpleriesshop@gmail.com
END:VEVENT
END:VCALENDAR