BEGIN:VCALENDAR
VERSION:2.0
PRODID:-//Roots and Wings Distillery - ECPv6.15.20//NONSGML v1.0//EN
CALSCALE:GREGORIAN
METHOD:PUBLISH
X-WR-CALNAME:Roots and Wings Distillery
X-ORIGINAL-URL:https://rootsandwingsdistillery.ca
X-WR-CALDESC:Events for Roots and Wings Distillery
REFRESH-INTERVAL;VALUE=DURATION:PT1H
X-Robots-Tag:noindex
X-PUBLISHED-TTL:PT1H
BEGIN:VTIMEZONE
TZID:UTC
BEGIN:STANDARD
TZOFFSETFROM:+0000
TZOFFSETTO:+0000
TZNAME:UTC
DTSTART:20250101T000000
END:STANDARD
END:VTIMEZONE
BEGIN:VEVENT
DTSTART;TZID=UTC:20260718T150000
DTEND;TZID=UTC:20260718T170000
DTSTAMP:20260423T042112
CREATED:20260311T191745Z
LAST-MODIFIED:20260311T193217Z
UID:10000681-1784386800-1784394000@rootsandwingsdistillery.ca
SUMMARY:​The 3rd Annual Big Dirty  - Mud Wrestling 
DESCRIPTION:​The 3rd Annual Big Dirty  – Mud Wrestling\n  \nTo Participate in the mud wrestling\, your ticket is your Registration Fee.\n  \nGet ready to get down and dirty at the hottest mud wrestling event in town – 3rd Annual “The Big Dirty”! 🤼‍♂️ Hosted at the one and only Roots and Wings Distillery on July 18th\, this event is guaranteed to be a mud-slinging extravaganza from 3p.m. to 5 p.m.! \nLive Music from Coyote Creek to follow the Mud Wrestling 5 to 7pm \nJoin us for an afternoon of fierce competition\, muddy mayhem\, and sassy showdowns as contestants battle it out in the muck for glory and bragging rights. Whether you’re a wrestling fanatic or just looking for some good old-fashioned fun\, The Big Dirty is the place to be! \nSo grab your squad\, put on your wildest wrestling attire\, and prepare for an epic afternoon of mud\, sweat\, and cheers! Don’t miss out on the action-packed event of the summer – come witness the chaos\, the laughter\, and the pure unadulterated fun at The Big Dirty! 💪🏼🤩🎉 \nTo top off the evening we have Live music in to make some noise and celebrate the participants! \nIf you wish to Participate in the mud wrestling\, sign up by purchasing a ticket below for opponent or team !\nIts a FREE event to attend and cheer on those getting involved in the Big Dirty!!\n  \nHere’s what you can expect at the event: \n\n**Sign-up:** Participants can sign up below with the person they want to wrestle. Whether it’s a friend\, a significant other\, or even a friendly rival\, get ready to take on the challenge in the mud pit! WE WILL NOT PICK YOUR OPPONENT THAT IS UP TO YOU!!\n**Fee:** The registration is $20!! So not only do you get to wrestle in the mud\, but you also get a cool souvenir to remember the experience.\n** Time** To participate in the event make sure to be here by 2:30 to sign the waiver and gear up\n**Waiver:** Before stepping into the mud pit\, all participants will be required to sign a waiver to ensure everyone’s safety during the event. Safety is a top priority\, and we want everyone to have a fun and enjoyable time.\n**Show up and have fun:** Once you’ve signed up\, signed the waiver\, and geared up in your wrestling attire\, it’s time to get dirty! Get ready to dive into the mud\, grapple with your opponent\, and enjoy a thrilling and laughter-filled experience like no other.\n**Cold Shower Onsite** So you can wash off the mud slinging good time bring a change of clothes and a towel.\n\nSo\, come on down to Roots and Wings Distillery\, bring your competitive spirit\, and get ready for an unforgettable day of big dirty mud wrestling fun! \nLive Music from the Unbranded starting at 3pm \n  \nIf you wish to Participate in the mud wrestling\, Purchase tickets below for your team! \nIts a FREE event to attend and cheer on those getting involved in the Big Dirty!!
URL:https://rootsandwingsdistillery.ca/event/the-3rd-annual-big-dirty-mud-wrestling/
LOCATION:Roots and Wings Distillery\, 7897 240th Street\, Langley\, British Columbia\, V1M 3P9\, Canada
CATEGORIES:Mud Wresteling
ATTACH;FMTTYPE=image/jpeg:https://rootsandwingsdistillery.ca/wp-content/uploads/2025/06/mud-wrestling-4.jpg
END:VEVENT
END:VCALENDAR