BEGIN:VCALENDAR
VERSION:2.0
PRODID:-//Roots and Wings Distillery - ECPv6.15.20//NONSGML v1.0//EN
CALSCALE:GREGORIAN
METHOD:PUBLISH
X-ORIGINAL-URL:https://rootsandwingsdistillery.ca
X-WR-CALDESC:Events for Roots and Wings Distillery
REFRESH-INTERVAL;VALUE=DURATION:PT1H
X-Robots-Tag:noindex
X-PUBLISHED-TTL:PT1H
BEGIN:VTIMEZONE
TZID:UTC
BEGIN:STANDARD
TZOFFSETFROM:+0000
TZOFFSETTO:+0000
TZNAME:UTC
DTSTART:20250101T000000
END:STANDARD
END:VTIMEZONE
BEGIN:VEVENT
DTSTART;TZID=UTC:20260605T180000
DTEND;TZID=UTC:20260605T210000
DTSTAMP:20260422T203253
CREATED:20260311T172553Z
LAST-MODIFIED:20260311T172553Z
UID:10000673-1780682400-1780693200@rootsandwingsdistillery.ca
SUMMARY:Live at the Rail car Stage – June 5th Ryan McAllister 
DESCRIPTION:Live at the Rail car Stage – June 5th Ryan McAllister\nFriday nights come alive at the Rail car Stage at Roots and Wings Distillery! From 6:00 p.m. to 9:00 p.m.\, the farm fills with the sound of great live music\, and the easygoing energy of a perfect summer evening. Bring your friends\, bring the family\, and settle in for a night where good vibes and great tunes set the tone for the weekend.\nGrab a seat on the grassy knoll\, soak in the sunset\, and enjoy delicious bites from the pizza truck while sipping on your favorite handcrafted Roots and Wings libations.\nWith the occasional pop-up vendor adding a little extra fun\, there’s always something new to discover while the music plays.\nIt’s pet-friendly\, family-friendly\, and community-focused—the kind of Friday night experience that feels like a mini escape without leaving town. Come out\, kick back\, and make the Rail car Stage at Roots and Wings Distillery your new Friday night tradition.
URL:https://rootsandwingsdistillery.ca/event/live-at-the-rail-car-stage-june-5th-ryan-mcallister/
LOCATION:Roots and Wings Distillery\, 7897 240th Street\, Langley\, British Columbia\, V1M 3P9\, Canada
CATEGORIES:Live Music
ATTACH;FMTTYPE=image/png:https://rootsandwingsdistillery.ca/wp-content/uploads/2026/03/Live-at-the-Rail-Car-Stage-Ryan-mcallister-June-5.png
END:VEVENT
BEGIN:VEVENT
DTSTART;TZID=UTC:20260606T120000
DTEND;TZID=UTC:20260606T200000
DTSTAMP:20260422T203253
CREATED:20260304T204047Z
LAST-MODIFIED:20260311T173006Z
UID:10000665-1780747200-1780776000@rootsandwingsdistillery.ca
SUMMARY:Langley Craft Beverage Week  - June 6th
DESCRIPTION:Langley Craft Beverage Week – June 6th\n  \nLangley Craft Beverage Week Celebration at Roots and Wings Distillery – Free to attend!  \nIt’s time to raise a glass for Langley Craft Beverage Week where the craft beverage producers of Langley Converge for a 10 celebration of Libations in Langley!  — and there’s no better place to celebrate than at Roots and Wings Distillery June 6th from 12 to 8pm! \nJoin us June 6th from 12:00 PM – 8:00 PM for a full day of music\, flavour\, and farm-fresh fun. We’re turning up the volume with live music all day long\, yard games that bring out your competitive side\, and a relaxed countryside atmosphere that feels like summer done right.\nCome hungry — we’ll have fresh wood-fired pizzas coming hot out of the oven\, perfectly paired with your favourite handcrafted spirits and cocktails. Bring your friends\, bring your family\, and settle in for an easygoing day filled with good drinks\, great tunes\, and even better company.\nSunshine\, spirits\, and good times. \n  \nOn the Rail Car Stage \nMichael Babor from 1 to 4pm \nKyler Pierce from 5 to 8pm \n  \nJune 6th. 12–8. Be there.
URL:https://rootsandwingsdistillery.ca/event/langley-craft-beverage-week-june-6th/
LOCATION:British Columbia
CATEGORIES:Live Music
ATTACH;FMTTYPE=image/jpeg:https://rootsandwingsdistillery.ca/wp-content/uploads/2024/05/Lawn_Bowling_2018-1048.jpg-3600×2403-scaled.jpeg
END:VEVENT
BEGIN:VEVENT
DTSTART;TZID=UTC:20260612T180000
DTEND;TZID=UTC:20260612T210000
DTSTAMP:20260422T203253
CREATED:20260311T175239Z
LAST-MODIFIED:20260311T175239Z
UID:10000676-1781287200-1781298000@rootsandwingsdistillery.ca
SUMMARY:Live at the Rail car Stage – June 12 Greg Nuefeld
DESCRIPTION:Live at the Rail car Stage – June 12 Greg Nuefeld\nFriday nights come alive at the Rail car Stage at Roots and Wings Distillery! From 6:00 p.m. to 9:00 p.m.\, the farm fills with the sound of great live music\, and the easygoing energy of a perfect summer evening. Bring your friends\, bring the family\, and settle in for a night where good vibes and great tunes set the tone for the weekend.\nGrab a seat on the grassy knoll\, soak in the sunset\, and enjoy delicious bites from the pizza truck while sipping on your favorite handcrafted Roots and Wings libations.\nWith the occasional pop-up vendor adding a little extra fun\, there’s always something new to discover while the music plays.\nIt’s pet-friendly\, family-friendly\, and community-focused—the kind of Friday night experience that feels like a mini escape without leaving town. Come out\, kick back\, and make the Rail car Stage at Roots and Wings Distillery your new Friday night tradition.
URL:https://rootsandwingsdistillery.ca/event/live-at-the-rail-car-stage-june-12-greg-nuefeld/
LOCATION:Roots and Wings Distillery\, 7897 240th Street\, Langley\, British Columbia\, V1M 3P9\, Canada
CATEGORIES:Live Music
ATTACH;FMTTYPE=image/png:https://rootsandwingsdistillery.ca/wp-content/uploads/2026/03/Live-at-the-Rail-Car-Stage-Greg-Nuefeld.png
END:VEVENT
BEGIN:VEVENT
DTSTART;TZID=UTC:20260619T180000
DTEND;TZID=UTC:20260619T210000
DTSTAMP:20260422T203253
CREATED:20260311T175513Z
LAST-MODIFIED:20260311T175513Z
UID:10000677-1781892000-1781902800@rootsandwingsdistillery.ca
SUMMARY:Live at the Rail car Stage – June 19th The Unbranded Duo
DESCRIPTION:Live at the Rail car Stage – June 19th The Unbranded Duo\nFriday nights come alive at the Rail car Stage at Roots and Wings Distillery! From 6:00 p.m. to 9:00 p.m.\, the farm fills with the sound of great live music\, and the easygoing energy of a perfect summer evening. Bring your friends\, bring the family\, and settle in for a night where good vibes and great tunes set the tone for the weekend.\nGrab a seat on the grassy knoll\, soak in the sunset\, and enjoy delicious bites from the pizza truck while sipping on your favorite handcrafted Roots and Wings libations.\nWith the occasional pop-up vendor adding a little extra fun\, there’s always something new to discover while the music plays.\nIt’s pet-friendly\, family-friendly\, and community-focused—the kind of Friday night experience that feels like a mini escape without leaving town. Come out\, kick back\, and make the Rail car Stage at Roots and Wings Distillery your new Friday night tradition.
URL:https://rootsandwingsdistillery.ca/event/live-at-the-rail-car-stage-june-19th-the-unbranded-duo/
LOCATION:Roots and Wings Distillery\, 7897 240th Street\, Langley\, British Columbia\, V1M 3P9\, Canada
CATEGORIES:Live Music
ATTACH;FMTTYPE=image/png:https://rootsandwingsdistillery.ca/wp-content/uploads/2026/03/Live-at-the-Rail-Car-Stage-The-Unbranded-Duo.png
END:VEVENT
BEGIN:VEVENT
DTSTART;TZID=UTC:20260626T180000
DTEND;TZID=UTC:20260626T210000
DTSTAMP:20260422T203253
CREATED:20260304T205046Z
LAST-MODIFIED:20260304T205046Z
UID:10000666-1782496800-1782507600@rootsandwingsdistillery.ca
SUMMARY:Live at the Rail Car Stage - June 26 Franklyn Woods
DESCRIPTION:Live at the Rail Car Stage – June 26 Franklyn Woods\nFriday Nights on the Rail Car Stage \n\nThere’s something magical about a summer evening at Roots and Wings Distillery.\nEvery Friday from 6:00 PM – 9:00 PM\, the rail car stage comes alive with incredible live music set against our beautiful farm backdrop. As the sun slowly dips behind the fields and the sky turns gold\, the music drifts across the property\, cocktails are poured\, and the week officially melts away.\nIt’s relaxed. It’s welcoming. It’s the perfect mix of handcrafted spirits\, open skies\, and authentic local talent. Bring your friends\, grab a drink\, find your spot on the lawn\, and let the rhythm of Friday night carry you into the weekend.\nIf you’re looking for the place to be on Friday nights — you just found it.
URL:https://rootsandwingsdistillery.ca/event/live-at-the-rail-car-stage-june-26-franklyn-woods/
LOCATION:Roots and Wings Distillery\, 7897 240th Street\, Langley\, British Columbia\, V1M 3P9\, Canada
CATEGORIES:Live Music
ATTACH;FMTTYPE=image/png:https://rootsandwingsdistillery.ca/wp-content/uploads/2026/03/Live-at-the-Rail-Car-Stage-Franklyn-Woods.png
END:VEVENT
END:VCALENDAR