BEGIN:VCALENDAR
VERSION:2.0
PRODID:-//Roots and Wings Distillery - ECPv6.15.20//NONSGML v1.0//EN
CALSCALE:GREGORIAN
METHOD:PUBLISH
X-WR-CALNAME:Roots and Wings Distillery
X-ORIGINAL-URL:https://rootsandwingsdistillery.ca
X-WR-CALDESC:Events for Roots and Wings Distillery
REFRESH-INTERVAL;VALUE=DURATION:PT1H
X-Robots-Tag:noindex
X-PUBLISHED-TTL:PT1H
BEGIN:VTIMEZONE
TZID:UTC
BEGIN:STANDARD
TZOFFSETFROM:+0000
TZOFFSETTO:+0000
TZNAME:UTC
DTSTART:20240101T000000
END:STANDARD
END:VTIMEZONE
BEGIN:VEVENT
DTSTART;TZID=UTC:20251107T180000
DTEND;TZID=UTC:20251107T210000
DTSTAMP:20260422T225338
CREATED:20251025T163640Z
LAST-MODIFIED:20251025T164917Z
UID:10000206-1762538400-1762549200@rootsandwingsdistillery.ca
SUMMARY:Live At The Root Cellar Lounge - Ryan McAlister
DESCRIPTION:Live Music at The Root Cellar Lounge – Roots & Wings Distillery\nNovember 7th Ryan McAlister from 6 to 9pm\nFridays just got more soulful. Join us this fall and winter for an unforgettable evening at the Root Cellar Lounge\, tucked inside Roots and Wings Distillery. From 6:00 to 9:00\, let the music lift your spirits and the warm glow of the lounge welcome you home. \nWhy You’ll Want to Be Here\n– Live music every Friday: A curated lineup of talented local artists delivering rich melodies\, sultry vocals\, and dynamic performances.\n– Intimate\, cozy atmosphere: The Root Cellar Lounge offers a snug\, inviting setting perfect for conversation\, connection\, and pure enjoyment..\n– Perfect for a Friday out – Kick off the weekend with friends\, family\, or that special someone\, and savor a memorable evening from 6:00 to 9:00.\n– Positive vibes\, great acoustics\, and a friendly crowd create the ideal mood to unwind. \nPlan Your Visit\n– When: Fridays in November 6:00 PM – 9:00 PM\n– Where: The Root Cellar Lounge\, Roots and Wings Distillery\n– What to bring: Your love of live music\, friends to share the moment\, and an appetite for great drinks and even better company.\n– Pro tip: Arrive early to claim a great seat and explore our distillery tasting flights before the music begins. \nMark your calendars\, rally your crew\, and experience the welcoming soundscape of Friday nights at the Root Cellar Lounge. See you there from 6:00 to 9:00 as we soundtrack your fall and winter evenings with live music that feels like home.
URL:https://rootsandwingsdistillery.ca/event/live-at-the-root-cellar-lounge-ryan-mcalister/
LOCATION:British Columbia
CATEGORIES:Live Music
ATTACH;FMTTYPE=image/png:https://rootsandwingsdistillery.ca/wp-content/uploads/2025/10/Nov-7-live-music.png
END:VEVENT
BEGIN:VEVENT
DTSTART;TZID=UTC:20251114T180000
DTEND;TZID=UTC:20251114T210000
DTSTAMP:20260422T225338
CREATED:20251025T163914Z
LAST-MODIFIED:20251025T164842Z
UID:10000207-1763143200-1763154000@rootsandwingsdistillery.ca
SUMMARY:Live At The Root Cellar Lounge - Jada Leroux
DESCRIPTION:Live Music at The Root Cellar Lounge – Roots & Wings Distillery\nNovember 14th Jada Leroux from 6 to 9pm\nFridays just got more soulful. Join us this fall and winter for an unforgettable evening at the Root Cellar Lounge\, tucked inside Roots and Wings Distillery. From 6:00 to 9:00\, let the music lift your spirits and the warm glow of the lounge welcome you home. \nWhy You’ll Want to Be Here\n– Live music every Friday: A curated lineup of talented local artists delivering rich melodies\, sultry vocals\, and dynamic performances.\n– Intimate\, cozy atmosphere: The Root Cellar Lounge offers a snug\, inviting setting perfect for conversation\, connection\, and pure enjoyment..\n– Perfect for a Friday out – Kick off the weekend with friends\, family\, or that special someone\, and savor a memorable evening from 6:00 to 9:00.\n– Positive vibes\, great acoustics\, and a friendly crowd create the ideal mood to unwind. \nPlan Your Visit\n– When: Fridays in November\, 6:00 PM – 9:00 PM\n– Where: The Root Cellar Lounge\, Roots and Wings Distillery\n– What to bring: Your love of live music\, friends to share the moment\, and an appetite for great drinks and even better company.\n– Pro tip: Arrive early to claim a great seat and explore our distillery tasting flights before the music begins. \nMark your calendars\, rally your crew\, and experience the welcoming soundscape of Friday nights at the Root Cellar Lounge. See you there from 6:00 to 9:00 as we soundtrack your fall and winter evenings with live music that feels like home.
URL:https://rootsandwingsdistillery.ca/event/live-at-the-root-cellar-lounge-jada-leroux/
LOCATION:British Columbia
CATEGORIES:Live Music
ATTACH;FMTTYPE=image/png:https://rootsandwingsdistillery.ca/wp-content/uploads/2025/10/Live-music-Nov-14.png
END:VEVENT
BEGIN:VEVENT
DTSTART;TZID=UTC:20251121T180000
DTEND;TZID=UTC:20251121T210000
DTSTAMP:20260422T225338
CREATED:20251025T164143Z
LAST-MODIFIED:20251113T181019Z
UID:10000208-1763748000-1763758800@rootsandwingsdistillery.ca
SUMMARY:Live At The Root Cellar Lounge - Gavin Harper
DESCRIPTION:Live at The Root Cellar Lounge – Roots & Wings Distillery\nNovember 21st Gavin Harper from 6 to 9pm\nFridays just got more soulful. Join us this fall and winter for an unforgettable evening at the Root Cellar Lounge\, tucked inside Roots and Wings Distillery. From 6:00 to 9:00\, let the music lift your spirits and the warm glow of the lounge welcome you home. \nWhy You’ll Want to Be Here\n– Live music every Friday: A curated lineup of talented local artists delivering rich melodies\, sultry vocals\, and dynamic performances.\n– Intimate\, cozy atmosphere: The Root Cellar Lounge offers a snug\, inviting setting perfect for conversation\, connection\, and pure enjoyment..\n– Perfect for a Friday out – Kick off the weekend with friends\, family\, or that special someone\, and savor a memorable evening from 6:00 to 9:00.\n– Positive vibes\, great acoustics\, and a friendly crowd create the ideal mood to unwind. \nPlan Your Visit\n– When: Fridays in November\, 6:00 PM – 9:00 PM\n– Where: The Root Cellar Lounge\, Roots and Wings Distillery\n– What to bring: Your love of live music\, friends to share the moment\, and an appetite for great drinks and even better company.\n– Pro tip: Arrive early to claim a great seat and explore our distillery tasting flights before the music begins. \nMark your calendars\, rally your crew\, and experience the welcoming soundscape of Friday nights at the Root Cellar Lounge. See you there from 6:00 to 9:00 as we soundtrack your fall and winter evenings with live music that feels like home.
URL:https://rootsandwingsdistillery.ca/event/live-at-the-root-cellar-lounge-gavin-harper/
LOCATION:British Columbia
CATEGORIES:Live Music
ATTACH;FMTTYPE=image/png:https://rootsandwingsdistillery.ca/wp-content/uploads/2025/10/Live-Misic-at-the-Root-Cellar-Lounge-Friday-November-21-with-Gavin-Harper-6-to-9pm1.png
END:VEVENT
BEGIN:VEVENT
DTSTART;TZID=UTC:20251128T180000
DTEND;TZID=UTC:20251128T210000
DTSTAMP:20260422T225338
CREATED:20251025T164518Z
LAST-MODIFIED:20251025T164802Z
UID:10000209-1764352800-1764363600@rootsandwingsdistillery.ca
SUMMARY:Live At The Root Cellar Lounge - Franklyn Woods
DESCRIPTION:Live at The Root Cellar Lounge – Roots & Wings Distillery\nNovember 28th Franklyn Woods from 6 to 9pm\nFridays just got more soulful. Join us this fall and winter for an unforgettable evening at the Root Cellar Lounge\, tucked inside Roots and Wings Distillery. From 6:00 to 9:00\, let the music lift your spirits and the warm glow of the lounge welcome you home. \nWhy You’ll Want to Be Here\n– Live music every Friday: A curated lineup of talented local artists delivering rich melodies\, sultry vocals\, and dynamic performances.\n– Intimate\, cozy atmosphere: The Root Cellar Lounge offers a snug\, inviting setting perfect for conversation\, connection\, and pure enjoyment..\n– Perfect for a Friday out – Kick off the weekend with friends\, family\, or that special someone\, and savor a memorable evening from 6:00 to 9:00.\n– Positive vibes\, great acoustics\, and a friendly crowd create the ideal mood to unwind. \nPlan Your Visit\n– When: Fridays in November\, 6:00 PM – 9:00 PM\n– Where: The Root Cellar Lounge\, Roots and Wings Distillery\n– What to bring: Your love of live music\, friends to share the moment\, and an appetite for great drinks and even better company.\n– Pro tip: Arrive early to claim a great seat and explore our distillery tasting flights before the music begins. \nMark your calendars\, rally your crew\, and experience the welcoming soundscape of Friday nights at the Root Cellar Lounge. See you there from 6:00 to 9:00 as we soundtrack your fall and winter evenings with live music that feels like home.
URL:https://rootsandwingsdistillery.ca/event/live-at-the-root-cellar-lounge-franklyn-woods/
LOCATION:British Columbia
CATEGORIES:Live Music
ATTACH;FMTTYPE=image/png:https://rootsandwingsdistillery.ca/wp-content/uploads/2025/10/Nov-28-music.png
END:VEVENT
BEGIN:VEVENT
DTSTART;TZID=UTC:20251129T120000
DTEND;TZID=UTC:20251129T180000
DTSTAMP:20260422T225338
CREATED:20250919T165132Z
LAST-MODIFIED:20250919T165835Z
UID:10000200-1764417600-1764439200@rootsandwingsdistillery.ca
SUMMARY:Roots and Wings Distillery Annual Sip n' Shop
DESCRIPTION:Roots and Wings Distillery Annual Sip n’ Shop\nFree to Attend!  \nJoin us for the Distillery’s beloved annual event — a festive Sip n Shop you won’t want to miss! \n– Date: Saturday\, November 29\n– Time:12:00 PM – 6:00 PM\n– Location: 7897 240th Street \nWhat to Expect\n– 🎅 Santa Photos: Capture festive memories with Santa himself bring your furry friends for their photos too!\n– 🧺 Local Vendors: Discover unique handmade goods and artisan products from our community’s best vendors.\n– 🥘 Tasty Food & Libations: Savor delicious bites and enjoy crafted beverages to fuel your shopping fun. \nWhy Attend\n– Support local artists and small businesses\n– Enjoy a family-friendly and festive atmosphere\n– Find perfect gifts for everyone on your list\n– Sip\, shop\, and celebrate the season in a warm\, welcoming setting \nGetting There & Tips\n– Ample parking available on-site. Carpooling encouraged.\n– Bring your shopping list and a reusable tote.\n– Dress for the season and bring a smile — we’ll bring the festive vibes. \nMark your calendars and invite friends and family to share in the holiday cheer at Roots and Wings Distillery! We can’t wait to see you there!
URL:https://rootsandwingsdistillery.ca/event/roots-and-wings-distillery-annual-sip-n-shop/
LOCATION:Roots and Wings Distillery\, 7897 240th Street\, Langley\, British Columbia\, V1M 3P9\, Canada
CATEGORIES:Artisan market,Drinks and Food
ATTACH;FMTTYPE=image/png:https://rootsandwingsdistillery.ca/wp-content/uploads/2025/09/Sip-N-Shop-2025.png
END:VEVENT
END:VCALENDAR