BEGIN:VCALENDAR
VERSION:2.0
PRODID:-//Roots and Wings Distillery - ECPv6.15.20//NONSGML v1.0//EN
CALSCALE:GREGORIAN
METHOD:PUBLISH
X-WR-CALNAME:Roots and Wings Distillery
X-ORIGINAL-URL:https://rootsandwingsdistillery.ca
X-WR-CALDESC:Events for Roots and Wings Distillery
REFRESH-INTERVAL;VALUE=DURATION:PT1H
X-Robots-Tag:noindex
X-PUBLISHED-TTL:PT1H
BEGIN:VTIMEZONE
TZID:UTC
BEGIN:STANDARD
TZOFFSETFROM:+0000
TZOFFSETTO:+0000
TZNAME:UTC
DTSTART:20240101T000000
END:STANDARD
END:VTIMEZONE
BEGIN:VEVENT
DTSTART;TZID=UTC:20251003T180000
DTEND;TZID=UTC:20251003T210000
DTSTAMP:20260423T002841
CREATED:20250922T174122Z
LAST-MODIFIED:20250926T123007Z
UID:10000202-1759514400-1759525200@rootsandwingsdistillery.ca
SUMMARY:Live at The Root Cellar Lounge
DESCRIPTION:Live Music at The Root Cellar Lounge – Roots & Wings Distillery\nOctober 3rd Jay Gavin from 6 to 9pm\nFridays just got more soulful. Join us this fall and winter for an unforgettable evening at the Root Cellar Lounge\, tucked inside Roots and Wings Distillery. From 6:00 to 9:00\, let the music lift your spirits and the warm glow of the lounge welcome you home. \nWhy You’ll Want to Be Here\n– Live music every Friday: A curated lineup of talented local artists delivering rich melodies\, sultry vocals\, and dynamic performances.\n– Intimate\, cozy atmosphere: The Root Cellar Lounge offers a snug\, inviting setting perfect for conversation\, connection\, and pure enjoyment..\n– Perfect for a Friday out – Kick off the weekend with friends\, family\, or that special someone\, and savor a memorable evening from 6:00 to 9:00.\n– Positive vibes\, great acoustics\, and a friendly crowd create the ideal mood to unwind. \nPlan Your Visit\n– When: Fridays in October\, 6:00 PM – 9:00 PM\n– Where: The Root Cellar Lounge\, Roots and Wings Distillery\n– What to bring: Your love of live music\, friends to share the moment\, and an appetite for great drinks and even better company.\n– Pro tip: Arrive early to claim a great seat and explore our distillery tasting flights before the music begins. \nMark your calendars\, rally your crew\, and experience the welcoming soundscape of Friday nights at the Root Cellar Lounge. See you there from 6:00 to 9:00 as we soundtrack your fall and winter evenings with live music that feels like home.
URL:https://rootsandwingsdistillery.ca/event/live-at-the-root-cellar-lounge/
LOCATION:British Columbia
CATEGORIES:Live Music
ATTACH;FMTTYPE=image/jpeg:https://rootsandwingsdistillery.ca/wp-content/uploads/2025/09/IMG_2490.jpeg
END:VEVENT
BEGIN:VEVENT
DTSTART;TZID=UTC:20251010T180000
DTEND;TZID=UTC:20251010T210000
DTSTAMP:20260423T002841
CREATED:20250922T174442Z
LAST-MODIFIED:20250922T174508Z
UID:10000203-1760119200-1760130000@rootsandwingsdistillery.ca
SUMMARY:Live Music at The Root Cellar Lounge
DESCRIPTION:Live Music at The Root Cellar Lounge – Roots & Wings Distillery\nOctober 10th Pat Chessell from 6 to 9pm\nFridays just got more soulful. Join us this fall and winter for an unforgettable evening at the Root Cellar Lounge\, tucked inside Roots and Wings Distillery. From 6:00 to 9:00\, let the music lift your spirits and the warm glow of the lounge welcome you home. \nWhy You’ll Want to Be Here\n– Live music every Friday: A curated lineup of talented local artists delivering rich melodies\, sultry vocals\, and dynamic performances.\n– Intimate\, cozy atmosphere: The Root Cellar Lounge offers a snug\, inviting setting perfect for conversation\, connection\, and pure enjoyment..\n– Perfect for a Friday out – Kick off the weekend with friends\, family\, or that special someone\, and savor a memorable evening from 6:00 to 9:00.\n– Positive vibes\, great acoustics\, and a friendly crowd create the ideal mood to unwind. \nPlan Your Visit\n– When: Fridays in October\, 6:00 PM – 9:00 PM\n– Where: The Root Cellar Lounge\, Roots and Wings Distillery\n– What to bring: Your love of live music\, friends to share the moment\, and an appetite for great drinks and even better company.\n– Pro tip: Arrive early to claim a great seat and explore our distillery tasting flights before the music begins. \nMark your calendars\, rally your crew\, and experience the welcoming soundscape of Friday nights at the Root Cellar Lounge. See you there from 6:00 to 9:00 as we soundtrack your fall and winter evenings with live music that feels like home.
URL:https://rootsandwingsdistillery.ca/event/live-music-at-the-root-cellar-lounge/
LOCATION:British Columbia
CATEGORIES:Live Music
ATTACH;FMTTYPE=image/png:https://rootsandwingsdistillery.ca/wp-content/uploads/2025/09/Roots-and-Wings-Distillery-Presents-Pat-Chessell-Friday-October-10th-in-the-Rootcellar-Lounge-From-6-to-9pm.png
END:VEVENT
BEGIN:VEVENT
DTSTART;TZID=UTC:20251016T183000
DTEND;TZID=UTC:20251016T200000
DTSTAMP:20260423T002841
CREATED:20250604T182750Z
LAST-MODIFIED:20250928T174706Z
UID:10000053-1760639400-1760644800@rootsandwingsdistillery.ca
SUMMARY:Espresso Martini Candle class October 16th
DESCRIPTION:Espresso Martini Candle class October 16th\nWhen: Thursday October 16th \nTime: 6:30 to 8:30pm \nLocation: Roots and Wings Distillery 7897 240th st Langley BC \nCost $55 \nWho loves Espresso Martinis? Hopefully you do because this is the class for you! Not only do you get to enjoy an espresso martini but you get to make a espresso martini candle to take home! \nSarah from Lupin Candle will guide you through the entire process\, its a wonderful opportunity to connect\, relax\, and get crafty! \nAll the materials will be provided as well as an espresso martini you can drink\, just bring your creative spirit and a smile! Space is limited\, so be sure to get your tickets soon! \n 
URL:https://rootsandwingsdistillery.ca/event/candle-class/
LOCATION:Roots and Wings Distillery\, 7897 240th Street\, Langley\, British Columbia\, V1M 3P9\, Canada
CATEGORIES:Workshop
ATTACH;FMTTYPE=image/jpeg:https://rootsandwingsdistillery.ca/wp-content/uploads/2025/06/espresso-martini-class.jpg
END:VEVENT
BEGIN:VEVENT
DTSTART;TZID=UTC:20251017T180000
DTEND;TZID=UTC:20251017T210000
DTSTAMP:20260423T002841
CREATED:20250922T175624Z
LAST-MODIFIED:20251015T184150Z
UID:10000204-1760724000-1760734800@rootsandwingsdistillery.ca
SUMMARY:Live Music at The Root Cellar Lounge
DESCRIPTION:Live Music at The Root Cellar Lounge – Roots & Wings Distillery\nOctober 17th Joshua David from 6 to 9pm\nFridays just got more soulful. Join us this fall and winter for an unforgettable evening at the Root Cellar Lounge\, tucked inside Roots and Wings Distillery. From 6:00 to 9:00\, let the music lift your spirits and the warm glow of the lounge welcome you home. \nWhy You’ll Want to Be Here\n– Live music every Friday: A curated lineup of talented local artists delivering rich melodies\, sultry vocals\, and dynamic performances.\n– Intimate\, cozy atmosphere: The Root Cellar Lounge offers a snug\, inviting setting perfect for conversation\, connection\, and pure enjoyment..\n– Perfect for a Friday out – Kick off the weekend with friends\, family\, or that special someone\, and savor a memorable evening from 6:00 to 9:00.\n– Positive vibes\, great acoustics\, and a friendly crowd create the ideal mood to unwind. \nPlan Your Visit\n– When: Fridays in October\, 6:00 PM – 9:00 PM\n– Where: The Root Cellar Lounge\, Roots and Wings Distillery\n– What to bring: Your love of live music\, friends to share the moment\, and an appetite for great drinks and even better company.\n– Pro tip: Arrive early to claim a great seat and explore our distillery tasting flights before the music begins. \nMark your calendars\, rally your crew\, and experience the welcoming soundscape of Friday nights at the Root Cellar Lounge. See you there from 6:00 to 9:00 as we soundtrack your fall and winter evenings with live music that feels like home.
URL:https://rootsandwingsdistillery.ca/event/live-music-at-the-root-cellar-lounge-2/
LOCATION:Roots and Wings Distillery\, 7897 240th Street\, Langley\, British Columbia\, V1M 3P9\, Canada
CATEGORIES:Live Music
ATTACH;FMTTYPE=image/png:https://rootsandwingsdistillery.ca/wp-content/uploads/2025/09/Joshua-David-.png
END:VEVENT
BEGIN:VEVENT
DTSTART;TZID=UTC:20251022T170000
DTEND;TZID=UTC:20251022T210000
DTSTAMP:20260423T002841
CREATED:20250717T163930Z
LAST-MODIFIED:20250717T163930Z
UID:10000129-1761152400-1761166800@rootsandwingsdistillery.ca
SUMMARY:Hat Bar Event
DESCRIPTION:Hat Bar Event\n  \nWelcome to our very first Hat Bar Event in LANGLEY BC ! \n🌾 LANGLEY — WE’RE COMIN’ IN HOT! 🤠 \nCatch us October 22 | 5–9 PM at Roots and Wings Distillery for a Saddle & Spurs Hat Bar experience you won’t forget! \nAddress: 7897 240 St\, Langley Twp\, BC V1M 3P9 \nWe are British Columbia’s FIRST travelling hat bar\, proudly based out of Kamloops with our own storefront — and we’re bringing our signature Nashville-style experience straight to the coast! \nWe’re talkin’: \n🔥 Custom Western + Rancher Hats prices starting at $65-167 \n🔥 Hat burning + hat branding $5-60 \n🔥 Full-on western flair \n🔥 Good drinks\, local shopping & bold vibes \nWe’re so excited to be popping up in British Columbia’s horse capital — Langley — and we can’t wait to bring all the fun your way! \n(THIS IS JUST A BOOKING FORM FOR NUMBERS AND TIMELINE FOR THE DAY! ALL OF OUR HATS COME WITH 1 HAT 4 ACCESSORIES) \nLet’s get western\, Langley! 🖤 \nBook your time slot HERE
URL:https://rootsandwingsdistillery.ca/event/hat-bar-event/
LOCATION:Roots and Wings Distillery\, 7897 240th Street\, Langley\, British Columbia\, V1M 3P9\, Canada
CATEGORIES:Workshop
ATTACH;FMTTYPE=image/jpeg:https://rootsandwingsdistillery.ca/wp-content/uploads/2025/07/Hatbar.jpg
END:VEVENT
BEGIN:VEVENT
DTSTART;TZID=UTC:20251024T180000
DTEND;TZID=UTC:20251024T210000
DTSTAMP:20260423T002841
CREATED:20250922T180242Z
LAST-MODIFIED:20250922T180242Z
UID:10000205-1761328800-1761339600@rootsandwingsdistillery.ca
SUMMARY:Live Music at The Root Cellar Lounge
DESCRIPTION:Live Music at The Root Cellar Lounge – Roots & Wings Distillery\nOctober 24th Bry Lovejoy from 6 to 9pm\nFridays just got more soulful. Join us this fall and winter for an unforgettable evening at the Root Cellar Lounge\, tucked inside Roots and Wings Distillery. From 6:00 to 9:00\, let the music lift your spirits and the warm glow of the lounge welcome you home. \nWhy You’ll Want to Be Here\n– Live music every Friday: A curated lineup of talented local artists delivering rich melodies\, sultry vocals\, and dynamic performances.\n– Intimate\, cozy atmosphere: The Root Cellar Lounge offers a snug\, inviting setting perfect for conversation\, connection\, and pure enjoyment..\n– Perfect for a Friday out – Kick off the weekend with friends\, family\, or that special someone\, and savor a memorable evening from 6:00 to 9:00.\n– Positive vibes\, great acoustics\, and a friendly crowd create the ideal mood to unwind. \nPlan Your Visit\n– When: Fridays in October\, 6:00 PM – 9:00 PM\n– Where: The Root Cellar Lounge\, Roots and Wings Distillery\n– What to bring: Your love of live music\, friends to share the moment\, and an appetite for great drinks and even better company.\n– Pro tip: Arrive early to claim a great seat and explore our distillery tasting flights before the music begins. \nMark your calendars\, rally your crew\, and experience the welcoming soundscape of Friday nights at the Root Cellar Lounge. See you there from 6:00 to 9:00 as we soundtrack your fall and winter evenings with live music that feels like home.
URL:https://rootsandwingsdistillery.ca/event/live-music-at-the-root-cellar-lounge-3/
LOCATION:British Columbia
CATEGORIES:Live Music
ATTACH;FMTTYPE=image/png:https://rootsandwingsdistillery.ca/wp-content/uploads/2025/09/Bry-Lovejoy.png
END:VEVENT
BEGIN:VEVENT
DTSTART;TZID=UTC:20251026T160000
DTEND;TZID=UTC:20251026T180000
DTSTAMP:20260423T002841
CREATED:20250919T222950Z
LAST-MODIFIED:20250926T122842Z
UID:10000201-1761494400-1761501600@rootsandwingsdistillery.ca
SUMMARY:Paint Your Pet Portrait Night
DESCRIPTION:Paint Your Pet Portrait Night 🎨🐾\n  \nat Roots and Wings Distillery \nCome join us for a fun and creative evening where you’ll paint a one-of-a-kind portrait of your beloved furry\, scaly\, or feathered friend! \nOnce you register\, we’ll reach out for a photo of your pet. Using that photo\, we’ll create a custom line sketch on your canvas to give you the perfect starting point. You’ll then bring your pet’s personality to life with paint and guidance from our friendly\, talented instructors. \n✨ No experience needed—beginners are more than welcome! \n✨ Please note: pets stay at home (photos only). \n  \n\n  \nWhat’s Included\n  \nYour ticket covers everything you’ll need for a successful and enjoyable paint night: \n  \n\nCanvas with your pet’s pre-drawn sketch\nPaints\, brushes\, and aprons\nStep-by-step instruction and support\nA unique keepsake masterpiece you’ll be proud to take home!\n\n  \n\n  \nEvent Details\n  \n📍 Location: Roots and Wings Distillery\n⏰ Class time: 4-6pm \n⏰ Date: Oct 26th\, 2025 \nCost is $45 does not include food or drink\nWe recommend arriving 10–15 minutes early (or up to 30 minutes early if you’d like to grab your seat\, order food and drinks\, and settle in). \n  \n\n  \nHow to Prepare Ahead\n  \n✔️ Submit Your Pet’s Photo \nPlease email a clear photo of your pet to partywithlauraw@gmail.com no later than 5 days before the event. This gives Laura time to prepare your personalized sketch so it’s ready when you arrive. \n✔️ Photo Tips \nWe’ve helped create portraits of dogs\, cats\, birds\, reptiles\, fish\, and even exotic pets! Just make sure your photo is clear and well-lit so we can capture your pet’s unique features. \n  \n\n  \nRefund / Cancellation Policy\nPlease note: this event is non-refundable. \n 
URL:https://rootsandwingsdistillery.ca/event/paint-your-pet-portrait-night/
LOCATION:Roots and Wings Distillery\, 7897 240th Street\, Langley\, British Columbia\, V1M 3P9\, Canada
CATEGORIES:Paint Night
ATTACH;FMTTYPE=image/jpeg:https://rootsandwingsdistillery.ca/wp-content/uploads/2025/09/Paint-your-pet-scaled.jpg
END:VEVENT
END:VCALENDAR