BEGIN:VCALENDAR
VERSION:2.0
PRODID:-//Roots and Wings Distillery - ECPv6.15.20//NONSGML v1.0//EN
CALSCALE:GREGORIAN
METHOD:PUBLISH
X-WR-CALNAME:Roots and Wings Distillery
X-ORIGINAL-URL:https://rootsandwingsdistillery.ca
X-WR-CALDESC:Events for Roots and Wings Distillery
REFRESH-INTERVAL;VALUE=DURATION:PT1H
X-Robots-Tag:noindex
X-PUBLISHED-TTL:PT1H
BEGIN:VTIMEZONE
TZID:UTC
BEGIN:STANDARD
TZOFFSETFROM:+0000
TZOFFSETTO:+0000
TZNAME:UTC
DTSTART:20240101T000000
END:STANDARD
END:VTIMEZONE
BEGIN:VEVENT
DTSTART;TZID=UTC:20250801T180000
DTEND;TZID=UTC:20250801T210000
DTSTAMP:20260423T033715
CREATED:20250723T162507Z
LAST-MODIFIED:20250723T162507Z
UID:10000190-1754071200-1754082000@rootsandwingsdistillery.ca
SUMMARY:Friday Night Lights - Tyler Cody
DESCRIPTION:Friday Night Lights – Tyler Cody\nExperience an Unforgettable Night at Roots & Wings Distillery with Live Music on August 1st! \nLooking for a perfect summer evening filled with good vibes\, great music\, and a welcoming community? Mark your calendars for August 1st and head down to Roots and Wings Distillery\, where memorable night awaits you at the Railcar Stage! \nJoin Us for Live Music with Tyler Cody \nWhy You Shouldn’t Miss This Event \n– Vibrant Atmosphere: Roots and Wings Distillery boasts a warm\, inviting ambiance perfect for socializing\, unwinding\, and enjoying live entertainment.\n– Delicious Drinks & Food: Sip on handcrafted spirits and enjoy tasty bites from our curated menu—what better way to complement live music?\n– Community Vibe: Connect with fellow music fans\, locals\, and visitors alike in a friendly\, laid-back setting.\n– Beautiful Setting: The Railcar Stage offers a scenic outdoor backdrop\, making it an ideal spot to soak in the summer evening. \nDetails to Remember \n– Date:Friday\, August 1st\n– Time: Music kicks off at 6:00 PM\n– Location: Roots and Wings Distillery\, 7897 240th st\n– Tickets: Free admission! Just bring your friends and family. (leashed pets welcome) \nCome Celebrate Music\, Community\, and Good Spirits \nWhether you’re a longtime supporter of local music or discovering new favorites\, this event is the perfect opportunity to enjoy an evening of soulful melodies and community spirit. Bring your friends\, bring your family\, and come experience the magic at Roots and Wings Distillery. \nWe can’t wait to see you there!  Cheers to good music and great company! \nStay Connected \nFollow us on social media @rawstillhouse for updates and more upcoming events. See you at the Railcar Stage!
URL:https://rootsandwingsdistillery.ca/event/friday-night-lights-tyler-cody/
LOCATION:Roots and Wings Distillery\, 7897 240th Street\, Langley\, British Columbia\, V1M 3P9\, Canada
CATEGORIES:Live Music
ATTACH;FMTTYPE=image/png:https://rootsandwingsdistillery.ca/wp-content/uploads/2025/07/Tyler-Cody-.png
END:VEVENT
BEGIN:VEVENT
DTSTART;TZID=UTC:20250806T160000
DTEND;TZID=UTC:20250806T203000
DTSTAMP:20260423T033715
CREATED:20250606T175652Z
LAST-MODIFIED:20250606T175652Z
UID:10000062-1754496000-1754512200@rootsandwingsdistillery.ca
SUMMARY:Wednesday Evening Bucket Golf Fun!
DESCRIPTION:Wednesday Evening Bucket Golf Fun!\nGet ready to swing into summer with our Wednesday Evening Bucket Golf Series! Starting June 18th at 4:00 PM\, join us at Roots and Wings Distillery in Langley for an evening of fun\, friends\, and fantastic vibes — all the way until dusk. \nNo fee to play — just bring your game\, your good spirits\, and enjoy some refreshing beverages to help you get into proper form 🍹✨ Whether you’re a seasoned golfer or just looking to have a few laughs\, everyone’s welcome to knock around some balls and enjoy the beautiful surroundings. \nMark your calendars\, gather your crew\, and let’s make Wednesday nights the highlight of the week! See you there! ⛳️🎉 \nRoots & Wings Distillery| June 18th & Every Wednesday | 4:00 PM till dusk \nLet’s tee off into summer! 🌞🏌️‍♂️
URL:https://rootsandwingsdistillery.ca/event/wednesday-evening-bucket-golf-fun/2025-08-06/
LOCATION:British Columbia
ATTACH;FMTTYPE=image/jpeg:https://rootsandwingsdistillery.ca/wp-content/uploads/2025/06/1000012274-scaled.jpg
END:VEVENT
BEGIN:VEVENT
DTSTART;TZID=UTC:20250808T180000
DTEND;TZID=UTC:20250808T210000
DTSTAMP:20260423T033715
CREATED:20250723T162833Z
LAST-MODIFIED:20250723T163238Z
UID:10000191-1754676000-1754686800@rootsandwingsdistillery.ca
SUMMARY:Friday Night Lights - Neil Harnett
DESCRIPTION:Friday Night Lights – Neil Harnett\n  \nExperience an Unforgettable Night at Roots & Wings Distillery with Live Music on August 8st! \nLooking for a perfect summer evening filled with good vibes\, great music\, and a welcoming community? Mark your calendars for August 8th and head down to Roots and Wings Distillery\, where memorable night awaits you at the Railcar Stage! \nJoin Us for Live Music with Neil Harnett \nWhy You Shouldn’t Miss This Event \n– Vibrant Atmosphere: Roots and Wings Distillery boasts a warm\, inviting ambiance perfect for socializing\, unwinding\, and enjoying live entertainment.\n– Delicious Drinks & Food: Sip on handcrafted spirits and enjoy tasty bites from our curated menu—what better way to complement live music?\n– Community Vibe: Connect with fellow music fans\, locals\, and visitors alike in a friendly\, laid-back setting.\n– Beautiful Setting: The Railcar Stage offers a scenic outdoor backdrop\, making it an ideal spot to soak in the summer evening. \nDetails to Remember \n– Date:Friday\, August 8th\n– Time: Music kicks off at 6:00 PM\n– Location: Roots and Wings Distillery\, 7897 240th st\n– Tickets: Free admission! Just bring your friends and family. (leashed pets welcome) \nCome Celebrate Music\, Community\, and Good Spirits \nWhether you’re a longtime supporter of local music or discovering new favorites\, this event is the perfect opportunity to enjoy an evening of soulful melodies and community spirit. Bring your friends\, bring your family\, and come experience the magic at Roots and Wings Distillery. \nWe can’t wait to see you there!  Cheers to good music and great company! \nStay Connected \nFollow us on social media @rawstillhouse for updates and more upcoming events. See you at the Railcar Stage!
URL:https://rootsandwingsdistillery.ca/event/friday-night-lights-neil-harnett/
LOCATION:Roots and Wings Distillery\, 7897 240th Street\, Langley\, British Columbia\, V1M 3P9\, Canada
CATEGORIES:Live Music
ATTACH;FMTTYPE=image/jpeg:https://rootsandwingsdistillery.ca/wp-content/uploads/2025/07/neil_harnett_with_hwy61_for_homepage.jpg
END:VEVENT
BEGIN:VEVENT
DTSTART;TZID=UTC:20250813T160000
DTEND;TZID=UTC:20250813T203000
DTSTAMP:20260423T033715
CREATED:20250606T175652Z
LAST-MODIFIED:20250606T175652Z
UID:10000063-1755100800-1755117000@rootsandwingsdistillery.ca
SUMMARY:Wednesday Evening Bucket Golf Fun!
DESCRIPTION:Wednesday Evening Bucket Golf Fun!\nGet ready to swing into summer with our Wednesday Evening Bucket Golf Series! Starting June 18th at 4:00 PM\, join us at Roots and Wings Distillery in Langley for an evening of fun\, friends\, and fantastic vibes — all the way until dusk. \nNo fee to play — just bring your game\, your good spirits\, and enjoy some refreshing beverages to help you get into proper form 🍹✨ Whether you’re a seasoned golfer or just looking to have a few laughs\, everyone’s welcome to knock around some balls and enjoy the beautiful surroundings. \nMark your calendars\, gather your crew\, and let’s make Wednesday nights the highlight of the week! See you there! ⛳️🎉 \nRoots & Wings Distillery| June 18th & Every Wednesday | 4:00 PM till dusk \nLet’s tee off into summer! 🌞🏌️‍♂️
URL:https://rootsandwingsdistillery.ca/event/wednesday-evening-bucket-golf-fun/2025-08-13/
LOCATION:British Columbia
ATTACH;FMTTYPE=image/jpeg:https://rootsandwingsdistillery.ca/wp-content/uploads/2025/06/1000012274-scaled.jpg
END:VEVENT
BEGIN:VEVENT
DTSTART;TZID=UTC:20250815T173000
DTEND;TZID=UTC:20250815T213000
DTSTAMP:20260423T033715
CREATED:20250625T181015Z
LAST-MODIFIED:20250625T181041Z
UID:10000122-1755279000-1755293400@rootsandwingsdistillery.ca
SUMMARY:Nashville at Roots and Wings
DESCRIPTION:Nashville at Roots and Wings Distillery\nBe part of something truly special on August 15\, 2025 as Backyard Music Co. brings the magic of Nashville directly to your community. Curated by Billboard-charting artist Scotty James\, this intimate Nashville-style “listening room” experience features two to three songwriters from Music City. These artists will perform their original songs acoustically and share the personal stories behind them. \n​Enjoy Nashville-themed cocktails\, food\, and exclusive merchandise in a welcoming\, intimate setting. \n​Host Notes: Please bring your favorite lawn chair for seating. There will be cocktails\, craft beer/cider available\, as well as food options. Stretch out on the lawn\, lots of parking is available\, welcome to leave your car overnight if need be. We are within Uber Range. \nGrab your tickets HERE
URL:https://rootsandwingsdistillery.ca/event/nashville-at-roots-and-wings/
LOCATION:Roots and Wings Distillery\, 7897 240th Street\, Langley\, British Columbia\, V1M 3P9\, Canada
ATTACH;FMTTYPE=image/jpeg:https://rootsandwingsdistillery.ca/wp-content/uploads/2025/06/61c7e2d4-5a01-440d-8d98-647794faad19.jpg
END:VEVENT
BEGIN:VEVENT
DTSTART;TZID=UTC:20250816T140000
DTEND;TZID=UTC:20250816T210000
DTSTAMP:20260423T033715
CREATED:20250710T161250Z
LAST-MODIFIED:20250710T161250Z
UID:10000127-1755352800-1755378000@rootsandwingsdistillery.ca
SUMMARY:Summer Seafood Boil
DESCRIPTION:Summer Seafood Boil \n\n  \nBrine and Barnacle’s Seafood Feast: A Nova Scotia Experience! \nJoin Roots and Wings Distillery and Brine & Barnacle Boil Company for an unforgettable seafood dining experience! Let your tastebuds journey to the shores of Nova Scotia with fresh seafood paired perfectly with craft cocktails. Sip on refreshing cocktails as you listen to live music and gaze out at mountain views while your boil cooks! Guaranteed to leave you full and satisfied this event promises a feast you won’t forget! \nLimited Tickets Available! \nOne Ticket per person! \nTicket Price: $120.00 plus GST \nChoose between: \n\nFresh Whole Dungeness Crab (1.5 lbs.)\nFresh Whole Atlantic Lobster (1.5 lbs.)\n\nEach boil includes: \n\nMussels\nPrawns\nFingerling potatoes\nCorn on the cob\nFresh bread\nMelted butter\nCustom Event Cake Pop\n\nSeating Times Available: \n\n2:00 PM – 4:30 PM\n6:00 PM – 8:30 PM\n\nPlease note that GST and Craft Cocktails are not included in the ticket price. \nGluten-Free Options: \nOur boils are gluten-free except for the bread and dessert. If you require gluten-free bread or dessert please email us at brineandbarnacle@gmail.com to make this request. No substitutions or modifications can be made to the boils. \nDon’t wait—secure your spot and enjoy a delicious seafood experience that’s perfect for seafood lovers! \n  \n\n\n\n\nRefund Policy\nTickets are non-refundable but can be transferred. For a ticket to be transferred the original purchaser must email Brine and Barnacle to make us aware of this and include the new purchaser’s email in the email. We will then verify that the person selling the tickets has tickets. \nBrine and Barnacle is not responsible for any unverified ticket transfers. \n\n\nGet your Tickets HERE
URL:https://rootsandwingsdistillery.ca/event/summer-seafood-boil/
LOCATION:Roots and Wings Distillery\, 7897 240th Street\, Langley\, British Columbia\, V1M 3P9\, Canada
CATEGORIES:Drinks and Food
ATTACH;FMTTYPE=image/png:https://rootsandwingsdistillery.ca/wp-content/uploads/2025/07/August-16-Summer-Seafood-Boil.png
END:VEVENT
BEGIN:VEVENT
DTSTART;TZID=UTC:20250820T160000
DTEND;TZID=UTC:20250820T203000
DTSTAMP:20260423T033715
CREATED:20250606T175652Z
LAST-MODIFIED:20250606T175652Z
UID:10000064-1755705600-1755721800@rootsandwingsdistillery.ca
SUMMARY:Wednesday Evening Bucket Golf Fun!
DESCRIPTION:Wednesday Evening Bucket Golf Fun!\nGet ready to swing into summer with our Wednesday Evening Bucket Golf Series! Starting June 18th at 4:00 PM\, join us at Roots and Wings Distillery in Langley for an evening of fun\, friends\, and fantastic vibes — all the way until dusk. \nNo fee to play — just bring your game\, your good spirits\, and enjoy some refreshing beverages to help you get into proper form 🍹✨ Whether you’re a seasoned golfer or just looking to have a few laughs\, everyone’s welcome to knock around some balls and enjoy the beautiful surroundings. \nMark your calendars\, gather your crew\, and let’s make Wednesday nights the highlight of the week! See you there! ⛳️🎉 \nRoots & Wings Distillery| June 18th & Every Wednesday | 4:00 PM till dusk \nLet’s tee off into summer! 🌞🏌️‍♂️
URL:https://rootsandwingsdistillery.ca/event/wednesday-evening-bucket-golf-fun/2025-08-20/
LOCATION:British Columbia
ATTACH;FMTTYPE=image/jpeg:https://rootsandwingsdistillery.ca/wp-content/uploads/2025/06/1000012274-scaled.jpg
END:VEVENT
BEGIN:VEVENT
DTSTART;TZID=UTC:20250822T180000
DTEND;TZID=UTC:20250822T210000
DTSTAMP:20260423T033715
CREATED:20250723T163529Z
LAST-MODIFIED:20250723T163857Z
UID:10000192-1755885600-1755896400@rootsandwingsdistillery.ca
SUMMARY:Friday Night Lights - Patrick Gavigan
DESCRIPTION:Friday Night Lights – Patrick Gavigan\nExperience an Unforgettable Night at Roots & Wings Distillery with Live Music on August 22nd! \nLooking for a perfect summer evening filled with good vibes\, great music\, and a welcoming community? Mark your calendars for August 22ndand head down to Roots and Wings Distillery\, where memorable night awaits you at the Railcar Stage! \nJoin Us for Live Music with Patrick Gavigan \nWhy You Shouldn’t Miss This Event \n– Vibrant Atmosphere: Roots and Wings Distillery boasts a warm\, inviting ambiance perfect for socializing\, unwinding\, and enjoying live entertainment.\n– Delicious Drinks & Food: Sip on handcrafted spirits and enjoy tasty bites from our curated menu—what better way to complement live music?\n– Community Vibe: Connect with fellow music fans\, locals\, and visitors alike in a friendly\, laid-back setting.\n– Beautiful Setting: The Railcar Stage offers a scenic outdoor backdrop\, making it an ideal spot to soak in the summer evening. \nDetails to Remember \n– Date:Friday\, August 22nd\n– Time: Music kicks off at 6:00 PM\n– Location: Roots and Wings Distillery\, 7897 240th st\n– Tickets: Free admission! Just bring your friends and family. (leashed pets welcome) \nCome Celebrate Music\, Community\, and Good Spirits \nWhether you’re a longtime supporter of local music or discovering new favorites\, this event is the perfect opportunity to enjoy an evening of soulful melodies and community spirit. Bring your friends\, bring your family\, and come experience the magic at Roots and Wings Distillery. \nWe can’t wait to see you there!  Cheers to good music and great company! \nStay Connected \nFollow us on social media @rawstillhouse for updates and more upcoming events. See you at the Railcar Stage!
URL:https://rootsandwingsdistillery.ca/event/friday-night-lights-patrick-gavigan/
LOCATION:Roots and Wings Distillery\, 7897 240th Street\, Langley\, British Columbia\, V1M 3P9\, Canada
CATEGORIES:Live Music
ATTACH;FMTTYPE=image/jpeg:https://rootsandwingsdistillery.ca/wp-content/uploads/2025/07/Patrick-Gavigan.jpg
END:VEVENT
BEGIN:VEVENT
DTSTART;TZID=UTC:20250827T160000
DTEND;TZID=UTC:20250827T203000
DTSTAMP:20260423T033715
CREATED:20250606T175652Z
LAST-MODIFIED:20250606T175652Z
UID:10000065-1756310400-1756326600@rootsandwingsdistillery.ca
SUMMARY:Wednesday Evening Bucket Golf Fun!
DESCRIPTION:Wednesday Evening Bucket Golf Fun!\nGet ready to swing into summer with our Wednesday Evening Bucket Golf Series! Starting June 18th at 4:00 PM\, join us at Roots and Wings Distillery in Langley for an evening of fun\, friends\, and fantastic vibes — all the way until dusk. \nNo fee to play — just bring your game\, your good spirits\, and enjoy some refreshing beverages to help you get into proper form 🍹✨ Whether you’re a seasoned golfer or just looking to have a few laughs\, everyone’s welcome to knock around some balls and enjoy the beautiful surroundings. \nMark your calendars\, gather your crew\, and let’s make Wednesday nights the highlight of the week! See you there! ⛳️🎉 \nRoots & Wings Distillery| June 18th & Every Wednesday | 4:00 PM till dusk \nLet’s tee off into summer! 🌞🏌️‍♂️
URL:https://rootsandwingsdistillery.ca/event/wednesday-evening-bucket-golf-fun/2025-08-27/
LOCATION:British Columbia
ATTACH;FMTTYPE=image/jpeg:https://rootsandwingsdistillery.ca/wp-content/uploads/2025/06/1000012274-scaled.jpg
END:VEVENT
BEGIN:VEVENT
DTSTART;TZID=UTC:20250829T180000
DTEND;TZID=UTC:20250829T210000
DTSTAMP:20260423T033715
CREATED:20250820T222415Z
LAST-MODIFIED:20250820T222415Z
UID:10000193-1756490400-1756501200@rootsandwingsdistillery.ca
SUMMARY:Friday Night Lights - Franklyn Woods
DESCRIPTION:Friday Night Lights – Franklyn Woods\nExperience an Unforgettable Night at Roots and Wings Distillery with Live Music on August 29th! \nLooking for a perfect summer evening filled with good vibes\, great music\, and a welcoming community? Mark your calendars for August 29th and head down to Roots and Wings Distillery\, where memorable night awaits you at the Railcar Stage! \nJoin Us for Live Music with Franklyn Woods \nWhy You Shouldn’t Miss This Event \n– Vibrant Atmosphere: Roots and Wings Distillery boasts a warm\, inviting ambiance perfect for socializing\, unwinding\, and enjoying live entertainment.\n– Delicious Drinks & Food: Sip on handcrafted spirits and enjoy tasty bites from our curated menu—what better way to complement live music?\n– Community Vibe: Connect with fellow music fans\, locals\, and visitors alike in a friendly\, laid-back setting.\n– Beautiful Setting: The Railcar Stage offers a scenic outdoor backdrop\, making it an ideal spot to soak in the summer evening. \nDetails to Remember \n– Date:Friday\, August 29th\n– Time: Music kicks off at 6:00 PM\n– Location: Roots and Wings Distillery\, 7897 240th st\n– Tickets: Free admission! Just bring your friends and family. (leashed pets welcome) \nCome Celebrate Music\, Community\, and Good Spirits \nWhether you’re a longtime supporter of local music or discovering new favorites\, this event is the perfect opportunity to enjoy an evening of soulful melodies and community spirit. Bring your friends\, bring your family\, and come experience the magic at Roots and Wings Distillery. \nWe can’t wait to see you there!  Cheers to good music and great company! \nStay Connected \nFollow us on social media @rawstillhouse for updates and more upcoming events. See you at the Railcar Stage!
URL:https://rootsandwingsdistillery.ca/event/friday-night-lights-franklyn-woods/
LOCATION:Roots and Wings Distillery\, 7897 240th Street\, Langley\, British Columbia\, V1M 3P9\, Canada
CATEGORIES:Live Music
END:VEVENT
END:VCALENDAR