BEGIN:VCALENDAR
VERSION:2.0
PRODID:-//Roots and Wings Distillery - ECPv6.15.20//NONSGML v1.0//EN
CALSCALE:GREGORIAN
METHOD:PUBLISH
X-WR-CALNAME:Roots and Wings Distillery
X-ORIGINAL-URL:https://rootsandwingsdistillery.ca
X-WR-CALDESC:Events for Roots and Wings Distillery
REFRESH-INTERVAL;VALUE=DURATION:PT1H
X-Robots-Tag:noindex
X-PUBLISHED-TTL:PT1H
BEGIN:VTIMEZONE
TZID:UTC
BEGIN:STANDARD
TZOFFSETFROM:+0000
TZOFFSETTO:+0000
TZNAME:UTC
DTSTART:20250101T000000
END:STANDARD
END:VTIMEZONE
BEGIN:VEVENT
DTSTART;TZID=UTC:20260814T180000
DTEND;TZID=UTC:20260814T200000
DTSTAMP:20260422T221921
CREATED:20260318T162741Z
LAST-MODIFIED:20260318T162741Z
UID:10000685-1786730400-1786737600@rootsandwingsdistillery.ca
SUMMARY:Live at the Rail Car Stage - August 14th Ryan McAllister
DESCRIPTION:Live at the Rail Car Stage – August 14th Ryan McAllister\n\n\nFriday nights come alive at the Rail car Stage at Roots and Wings Distillery! From 6:00 p.m. to 9:00 p.m.\, the farm fills with the sound of great live music\, and the easygoing energy of a perfect summer evening. Bring your friends\, bring the family\, and settle in for a night where good vibes and great tunes set the tone for the weekend.\nGrab a seat on the grassy knoll\, soak in the sunset\, and enjoy delicious bites from the pizza truck while sipping on your favorite handcrafted Roots and Wings libations.\nWith the occasional pop-up vendor adding a little extra fun\, there’s always something new to discover while the music plays.\nIt’s pet-friendly\, family-friendly\, and community-focused—the kind of Friday night experience that feels like a mini escape without leaving town. Come out\, kick back\, and make the Rail car Stage at Roots and Wings Distillery your new Friday night tradition.
URL:https://rootsandwingsdistillery.ca/event/live-at-the-rail-car-stage-august-14th-ryan-mcallister/
LOCATION:Roots and Wings Distillery\, 7897 240th Street\, Langley\, British Columbia\, V1M 3P9\, Canada
CATEGORIES:Live Music
ATTACH;FMTTYPE=image/png:https://rootsandwingsdistillery.ca/wp-content/uploads/2026/03/Live-at-the-Rail-Car-Stage-Ryan-McAllister5.png
END:VEVENT
BEGIN:VEVENT
DTSTART;TZID=UTC:20260821T180000
DTEND;TZID=UTC:20260821T210000
DTSTAMP:20260422T221921
CREATED:20260318T163339Z
LAST-MODIFIED:20260318T163339Z
UID:10000686-1787335200-1787346000@rootsandwingsdistillery.ca
SUMMARY:Live at the Rail Car Stage - August 21st Caden Knudson
DESCRIPTION:Live at the Rail Car Stage – August 21st Caden Knudson\n\n\nFriday nights come alive at the Rail car Stage at Roots and Wings Distillery! From 6:00 p.m. to 9:00 p.m.\, the farm fills with the sound of great live music\, and the easygoing energy of a perfect summer evening. Bring your friends\, bring the family\, and settle in for a night where good vibes and great tunes set the tone for the weekend.\nGrab a seat on the grassy knoll\, soak in the sunset\, and enjoy delicious bites from the pizza truck while sipping on your favorite handcrafted Roots and Wings libations.\nWith the occasional pop-up vendor adding a little extra fun\, there’s always something new to discover while the music plays.\nIt’s pet-friendly\, family-friendly\, and community-focused—the kind of Friday night experience that feels like a mini escape without leaving town. Come out\, kick back\, and make the Rail car Stage at Roots and Wings Distillery your new Friday night tradition.
URL:https://rootsandwingsdistillery.ca/event/live-at-the-rail-car-stage-august-21st-caden-knudson/
LOCATION:Roots and Wings Distillery\, 7897 240th Street\, Langley\, British Columbia\, V1M 3P9\, Canada
CATEGORIES:Live Music
ATTACH;FMTTYPE=image/png:https://rootsandwingsdistillery.ca/wp-content/uploads/2026/03/Live-at-the-Rail-Car-Stage-Caden-Kudson.png
END:VEVENT
BEGIN:VEVENT
DTSTART;TZID=UTC:20260828T180000
DTEND;TZID=UTC:20260828T210000
DTSTAMP:20260422T221921
CREATED:20260318T170447Z
LAST-MODIFIED:20260318T170447Z
UID:10000687-1787940000-1787950800@rootsandwingsdistillery.ca
SUMMARY:Live at the Rail Car Stage - August 28th Pat Chessell
DESCRIPTION:Live at the Rail Car Stage – August 28th Pat Chessell\n\n\nFriday nights come alive at the Rail car Stage at Roots and Wings Distillery! From 6:00 p.m. to 9:00 p.m.\, the farm fills with the sound of great live music\, and the easygoing energy of a perfect summer evening. Bring your friends\, bring the family\, and settle in for a night where good vibes and great tunes set the tone for the weekend.\nGrab a seat on the grassy knoll\, soak in the sunset\, and enjoy delicious bites from the pizza truck while sipping on your favorite handcrafted Roots and Wings libations.\nWith the occasional pop-up vendor adding a little extra fun\, there’s always something new to discover while the music plays.\nIt’s pet-friendly\, family-friendly\, and community-focused—the kind of Friday night experience that feels like a mini escape without leaving town. Come out\, kick back\, and make the Rail car Stage at Roots and Wings Distillery your new Friday night tradition.
URL:https://rootsandwingsdistillery.ca/event/live-at-the-rail-car-stage-august-28th-pat-chessell/
LOCATION:Roots and Wings Distillery\, 7897 240th Street\, Langley\, British Columbia\, V1M 3P9\, Canada
CATEGORIES:Live Music
ATTACH;FMTTYPE=image/png:https://rootsandwingsdistillery.ca/wp-content/uploads/2026/03/Live-at-the-Rail-Car-Stage-Pat-Chessell.png
END:VEVENT
END:VCALENDAR