BEGIN:VCALENDAR
VERSION:2.0
PRODID:-//Roots and Wings Distillery - ECPv6.15.20//NONSGML v1.0//EN
CALSCALE:GREGORIAN
METHOD:PUBLISH
X-ORIGINAL-URL:https://rootsandwingsdistillery.ca
X-WR-CALDESC:Events for Roots and Wings Distillery
REFRESH-INTERVAL;VALUE=DURATION:PT1H
X-Robots-Tag:noindex
X-PUBLISHED-TTL:PT1H
BEGIN:VTIMEZONE
TZID:UTC
BEGIN:STANDARD
TZOFFSETFROM:+0000
TZOFFSETTO:+0000
TZNAME:UTC
DTSTART:20250101T000000
END:STANDARD
END:VTIMEZONE
BEGIN:VEVENT
DTSTART;TZID=UTC:20260704T180000
DTEND;TZID=UTC:20260704T210000
DTSTAMP:20260423T031349
CREATED:20260305T220843Z
LAST-MODIFIED:20260311T164633Z
UID:10000668-1783188000-1783198800@rootsandwingsdistillery.ca
SUMMARY:The Early Beats
DESCRIPTION:The Early Beats\n🎶 All You Need Is Love… and a Great Night of Music! 🎶 \nJoin us for an unforgettable summer evening at Roots and Wings Distillery as The Early Beats – A Beatles Tribute Band bring the timeless hits of the Fab Four to life!\n📅 Saturday\, July 4\n🕕 6:00 PM – 9:00 PM\nSet against the beautiful farm setting of the distillery\, enjoy a relaxed summer night filled with classic Beatles tunes\, great company\, and incredible craft spirits. Grab a cocktail\, settle in with friends\, and sing along to the songs that defined a generation.\n🎟 Tickets:\n• $10 in advance\n• $12 at the door\nSpace is limited\, so grab your tickets early and make plans to spend your Saturday night where the music\, the sunset\, and the good vibes come together.\n✨ Come early\, stay late\, and let the music take you back!
URL:https://rootsandwingsdistillery.ca/event/the-early-beats/
LOCATION:Roots and Wings Distillery\, 7897 240th Street\, Langley\, British Columbia\, V1M 3P9\, Canada
CATEGORIES:Live Music
ATTACH;FMTTYPE=image/png:https://rootsandwingsdistillery.ca/wp-content/uploads/2026/03/THE-EARLY-BEATS-at-Roots-and-Wings-Distillery-Langley-BC-July-4-2026-scaled.png
END:VEVENT
BEGIN:VEVENT
DTSTART;TZID=UTC:20260710T180000
DTEND;TZID=UTC:20260710T210000
DTSTAMP:20260423T031349
CREATED:20260311T175812Z
LAST-MODIFIED:20260311T175812Z
UID:10000678-1783706400-1783717200@rootsandwingsdistillery.ca
SUMMARY:Live at the Rail car Stage – July 10 Greg Neufeld
DESCRIPTION:Live at the Rail car Stage – July 10 Greg Neufeld\nFriday nights come alive at the Rail car Stage at Roots and Wings Distillery! From 6:00 p.m. to 9:00 p.m.\, the farm fills with the sound of great live music\, and the easygoing energy of a perfect summer evening. Bring your friends\, bring the family\, and settle in for a night where good vibes and great tunes set the tone for the weekend.\nGrab a seat on the grassy knoll\, soak in the sunset\, and enjoy delicious bites from the pizza truck while sipping on your favorite handcrafted Roots and Wings libations.\nWith the occasional pop-up vendor adding a little extra fun\, there’s always something new to discover while the music plays.\nIt’s pet-friendly\, family-friendly\, and community-focused—the kind of Friday night experience that feels like a mini escape without leaving town. Come out\, kick back\, and make the Rail car Stage at Roots and Wings Distillery your new Friday night tradition.
URL:https://rootsandwingsdistillery.ca/event/live-at-the-rail-car-stage-july-10-greg-neufeld/
LOCATION:Roots and Wings Distillery\, 7897 240th Street\, Langley\, British Columbia\, V1M 3P9\, Canada
CATEGORIES:Live Music
ATTACH;FMTTYPE=image/png:https://rootsandwingsdistillery.ca/wp-content/uploads/2026/03/Live-at-the-Rail-Car-Stage-Greg-Nuefeld-July-10.png
END:VEVENT
BEGIN:VEVENT
DTSTART;TZID=UTC:20260717T180000
DTEND;TZID=UTC:20260717T210000
DTSTAMP:20260423T031349
CREATED:20260311T184118Z
LAST-MODIFIED:20260311T184118Z
UID:10000679-1784311200-1784322000@rootsandwingsdistillery.ca
SUMMARY:Live at the Rail car Stage – July 17 Ryan McAllister
DESCRIPTION:Live at the Rail car Stage – July 17 Ryan McAllister\nFriday nights come alive at the Rail car Stage at Roots and Wings Distillery! From 6:00 p.m. to 9:00 p.m.\, the farm fills with the sound of great live music\, and the easygoing energy of a perfect summer evening. Bring your friends\, bring the family\, and settle in for a night where good vibes and great tunes set the tone for the weekend.\nGrab a seat on the grassy knoll\, soak in the sunset\, and enjoy delicious bites from the pizza truck while sipping on your favorite handcrafted Roots and Wings libations.\nWith the occasional pop-up vendor adding a little extra fun\, there’s always something new to discover while the music plays.\nIt’s pet-friendly\, family-friendly\, and community-focused—the kind of Friday night experience that feels like a mini escape without leaving town. Come out\, kick back\, and make the Rail car Stage at Roots and Wings Distillery your new Friday night tradition.
URL:https://rootsandwingsdistillery.ca/event/live-at-the-rail-car-stage-july-17-ryan-mcallister/
LOCATION:Roots and Wings Distillery\, 7897 240th Street\, Langley\, British Columbia\, V1M 3P9\, Canada
CATEGORIES:Live Music
ATTACH;FMTTYPE=image/png:https://rootsandwingsdistillery.ca/wp-content/uploads/2026/03/Live-at-the-Rail-Car-Stage-Ryan-mcallister4.png
END:VEVENT
BEGIN:VEVENT
DTSTART;TZID=UTC:20260724T180000
DTEND;TZID=UTC:20260724T210000
DTSTAMP:20260423T031349
CREATED:20260311T192144Z
LAST-MODIFIED:20260311T192144Z
UID:10000682-1784916000-1784926800@rootsandwingsdistillery.ca
SUMMARY:Live at the Rail car Stage – July 24 Tyler Cody
DESCRIPTION:Live at the Rail car Stage – July 24 Tyler Cody\nFriday nights come alive at the Rail car Stage at Roots and Wings Distillery! From 6:00 p.m. to 9:00 p.m.\, the farm fills with the sound of great live music\, and the easygoing energy of a perfect summer evening. Bring your friends\, bring the family\, and settle in for a night where good vibes and great tunes set the tone for the weekend.\nGrab a seat on the grassy knoll\, soak in the sunset\, and enjoy delicious bites from the pizza truck while sipping on your favorite handcrafted Roots and Wings libations.\nWith the occasional pop-up vendor adding a little extra fun\, there’s always something new to discover while the music plays.\nIt’s pet-friendly\, family-friendly\, and community-focused—the kind of Friday night experience that feels like a mini escape without leaving town. Come out\, kick back\, and make the Rail car Stage at Roots and Wings Distillery your new Friday night tradition.
URL:https://rootsandwingsdistillery.ca/event/live-at-the-rail-car-stage-july-24-tyler-cody/
LOCATION:Roots and Wings Distillery\, 7897 240th Street\, Langley\, British Columbia\, V1M 3P9\, Canada
CATEGORIES:Live Music
ATTACH;FMTTYPE=image/png:https://rootsandwingsdistillery.ca/wp-content/uploads/2026/03/Live-at-the-Rail-Car-Stage-Tyler-Cody.png
END:VEVENT
BEGIN:VEVENT
DTSTART;TZID=UTC:20260731T180000
DTEND;TZID=UTC:20260731T210000
DTSTAMP:20260423T031349
CREATED:20260311T192621Z
LAST-MODIFIED:20260311T192621Z
UID:10000683-1785520800-1785531600@rootsandwingsdistillery.ca
SUMMARY:Live at the Rail car Stage – July 31 Neil Harnett
DESCRIPTION:Live at the Rail car Stage – July 31 Neil Harnett\nFriday nights come alive at the Rail car Stage at Roots and Wings Distillery! From 6:00 p.m. to 9:00 p.m.\, the farm fills with the sound of great live music\, and the easygoing energy of a perfect summer evening. Bring your friends\, bring the family\, and settle in for a night where good vibes and great tunes set the tone for the weekend.\nGrab a seat on the grassy knoll\, soak in the sunset\, and enjoy delicious bites from the pizza truck while sipping on your favorite handcrafted Roots and Wings libations.\nWith the occasional pop-up vendor adding a little extra fun\, there’s always something new to discover while the music plays.\nIt’s pet-friendly\, family-friendly\, and community-focused—the kind of Friday night experience that feels like a mini escape without leaving town. Come out\, kick back\, and make the Rail car Stage at Roots and Wings Distillery your new Friday night tradition.
URL:https://rootsandwingsdistillery.ca/event/live-at-the-rail-car-stage-july-31-neil-harnett/
LOCATION:Roots and Wings Distillery\, 7897 240th Street\, Langley\, British Columbia\, V1M 3P9\, Canada
CATEGORIES:Live Music
ATTACH;FMTTYPE=image/png:https://rootsandwingsdistillery.ca/wp-content/uploads/2026/03/Live-at-the-Rail-Car-Stage-Neil-harnett1.png
END:VEVENT
BEGIN:VEVENT
DTSTART;TZID=UTC:20260807T180000
DTEND;TZID=UTC:20260807T210000
DTSTAMP:20260423T031349
CREATED:20260318T162416Z
LAST-MODIFIED:20260318T162416Z
UID:10000684-1786125600-1786136400@rootsandwingsdistillery.ca
SUMMARY:Live at the Rail car Stage – August 7th Courtney Hunt
DESCRIPTION:Live at the Rail car Stage – August 7th Courtney Hunt\nFriday nights come alive at the Rail car Stage at Roots and Wings Distillery! From 6:00 p.m. to 9:00 p.m.\, the farm fills with the sound of great live music\, and the easygoing energy of a perfect summer evening. Bring your friends\, bring the family\, and settle in for a night where good vibes and great tunes set the tone for the weekend.\nGrab a seat on the grassy knoll\, soak in the sunset\, and enjoy delicious bites from the pizza truck while sipping on your favorite handcrafted Roots and Wings libations.\nWith the occasional pop-up vendor adding a little extra fun\, there’s always something new to discover while the music plays.\nIt’s pet-friendly\, family-friendly\, and community-focused—the kind of Friday night experience that feels like a mini escape without leaving town. Come out\, kick back\, and make the Rail car Stage at Roots and Wings Distillery your new Friday night tradition.
URL:https://rootsandwingsdistillery.ca/event/live-at-the-rail-car-stage-august-7th-courtney-hunt/
LOCATION:Roots and Wings Distillery\, 7897 240th Street\, Langley\, British Columbia\, V1M 3P9\, Canada
CATEGORIES:Live Music
ATTACH;FMTTYPE=image/png:https://rootsandwingsdistillery.ca/wp-content/uploads/2026/03/Live-at-the-Rail-Car-Stage-Courtnet-Hunt.png
END:VEVENT
BEGIN:VEVENT
DTSTART;TZID=UTC:20260814T180000
DTEND;TZID=UTC:20260814T200000
DTSTAMP:20260423T031349
CREATED:20260318T162741Z
LAST-MODIFIED:20260318T162741Z
UID:10000685-1786730400-1786737600@rootsandwingsdistillery.ca
SUMMARY:Live at the Rail Car Stage - August 14th Ryan McAllister
DESCRIPTION:Live at the Rail Car Stage – August 14th Ryan McAllister\n\n\nFriday nights come alive at the Rail car Stage at Roots and Wings Distillery! From 6:00 p.m. to 9:00 p.m.\, the farm fills with the sound of great live music\, and the easygoing energy of a perfect summer evening. Bring your friends\, bring the family\, and settle in for a night where good vibes and great tunes set the tone for the weekend.\nGrab a seat on the grassy knoll\, soak in the sunset\, and enjoy delicious bites from the pizza truck while sipping on your favorite handcrafted Roots and Wings libations.\nWith the occasional pop-up vendor adding a little extra fun\, there’s always something new to discover while the music plays.\nIt’s pet-friendly\, family-friendly\, and community-focused—the kind of Friday night experience that feels like a mini escape without leaving town. Come out\, kick back\, and make the Rail car Stage at Roots and Wings Distillery your new Friday night tradition.
URL:https://rootsandwingsdistillery.ca/event/live-at-the-rail-car-stage-august-14th-ryan-mcallister/
LOCATION:Roots and Wings Distillery\, 7897 240th Street\, Langley\, British Columbia\, V1M 3P9\, Canada
CATEGORIES:Live Music
ATTACH;FMTTYPE=image/png:https://rootsandwingsdistillery.ca/wp-content/uploads/2026/03/Live-at-the-Rail-Car-Stage-Ryan-McAllister5.png
END:VEVENT
BEGIN:VEVENT
DTSTART;TZID=UTC:20260821T180000
DTEND;TZID=UTC:20260821T210000
DTSTAMP:20260423T031349
CREATED:20260318T163339Z
LAST-MODIFIED:20260318T163339Z
UID:10000686-1787335200-1787346000@rootsandwingsdistillery.ca
SUMMARY:Live at the Rail Car Stage - August 21st Caden Knudson
DESCRIPTION:Live at the Rail Car Stage – August 21st Caden Knudson\n\n\nFriday nights come alive at the Rail car Stage at Roots and Wings Distillery! From 6:00 p.m. to 9:00 p.m.\, the farm fills with the sound of great live music\, and the easygoing energy of a perfect summer evening. Bring your friends\, bring the family\, and settle in for a night where good vibes and great tunes set the tone for the weekend.\nGrab a seat on the grassy knoll\, soak in the sunset\, and enjoy delicious bites from the pizza truck while sipping on your favorite handcrafted Roots and Wings libations.\nWith the occasional pop-up vendor adding a little extra fun\, there’s always something new to discover while the music plays.\nIt’s pet-friendly\, family-friendly\, and community-focused—the kind of Friday night experience that feels like a mini escape without leaving town. Come out\, kick back\, and make the Rail car Stage at Roots and Wings Distillery your new Friday night tradition.
URL:https://rootsandwingsdistillery.ca/event/live-at-the-rail-car-stage-august-21st-caden-knudson/
LOCATION:Roots and Wings Distillery\, 7897 240th Street\, Langley\, British Columbia\, V1M 3P9\, Canada
CATEGORIES:Live Music
ATTACH;FMTTYPE=image/png:https://rootsandwingsdistillery.ca/wp-content/uploads/2026/03/Live-at-the-Rail-Car-Stage-Caden-Kudson.png
END:VEVENT
BEGIN:VEVENT
DTSTART;TZID=UTC:20260828T180000
DTEND;TZID=UTC:20260828T210000
DTSTAMP:20260423T031349
CREATED:20260318T170447Z
LAST-MODIFIED:20260318T170447Z
UID:10000687-1787940000-1787950800@rootsandwingsdistillery.ca
SUMMARY:Live at the Rail Car Stage - August 28th Pat Chessell
DESCRIPTION:Live at the Rail Car Stage – August 28th Pat Chessell\n\n\nFriday nights come alive at the Rail car Stage at Roots and Wings Distillery! From 6:00 p.m. to 9:00 p.m.\, the farm fills with the sound of great live music\, and the easygoing energy of a perfect summer evening. Bring your friends\, bring the family\, and settle in for a night where good vibes and great tunes set the tone for the weekend.\nGrab a seat on the grassy knoll\, soak in the sunset\, and enjoy delicious bites from the pizza truck while sipping on your favorite handcrafted Roots and Wings libations.\nWith the occasional pop-up vendor adding a little extra fun\, there’s always something new to discover while the music plays.\nIt’s pet-friendly\, family-friendly\, and community-focused—the kind of Friday night experience that feels like a mini escape without leaving town. Come out\, kick back\, and make the Rail car Stage at Roots and Wings Distillery your new Friday night tradition.
URL:https://rootsandwingsdistillery.ca/event/live-at-the-rail-car-stage-august-28th-pat-chessell/
LOCATION:Roots and Wings Distillery\, 7897 240th Street\, Langley\, British Columbia\, V1M 3P9\, Canada
CATEGORIES:Live Music
ATTACH;FMTTYPE=image/png:https://rootsandwingsdistillery.ca/wp-content/uploads/2026/03/Live-at-the-Rail-Car-Stage-Pat-Chessell.png
END:VEVENT
END:VCALENDAR