BEGIN:VCALENDAR
VERSION:2.0
PRODID:-//Roots and Wings Distillery - ECPv6.15.20//NONSGML v1.0//EN
CALSCALE:GREGORIAN
METHOD:PUBLISH
X-ORIGINAL-URL:https://rootsandwingsdistillery.ca
X-WR-CALDESC:Events for Roots and Wings Distillery
REFRESH-INTERVAL;VALUE=DURATION:PT1H
X-Robots-Tag:noindex
X-PUBLISHED-TTL:PT1H
BEGIN:VTIMEZONE
TZID:UTC
BEGIN:STANDARD
TZOFFSETFROM:+0000
TZOFFSETTO:+0000
TZNAME:UTC
DTSTART:20250101T000000
END:STANDARD
END:VTIMEZONE
BEGIN:VEVENT
DTSTART;TZID=UTC:20260704T180000
DTEND;TZID=UTC:20260704T210000
DTSTAMP:20260422T221302
CREATED:20260305T220843Z
LAST-MODIFIED:20260311T164633Z
UID:10000668-1783188000-1783198800@rootsandwingsdistillery.ca
SUMMARY:The Early Beats
DESCRIPTION:The Early Beats\n🎶 All You Need Is Love… and a Great Night of Music! 🎶 \nJoin us for an unforgettable summer evening at Roots and Wings Distillery as The Early Beats – A Beatles Tribute Band bring the timeless hits of the Fab Four to life!\n📅 Saturday\, July 4\n🕕 6:00 PM – 9:00 PM\nSet against the beautiful farm setting of the distillery\, enjoy a relaxed summer night filled with classic Beatles tunes\, great company\, and incredible craft spirits. Grab a cocktail\, settle in with friends\, and sing along to the songs that defined a generation.\n🎟 Tickets:\n• $10 in advance\n• $12 at the door\nSpace is limited\, so grab your tickets early and make plans to spend your Saturday night where the music\, the sunset\, and the good vibes come together.\n✨ Come early\, stay late\, and let the music take you back!
URL:https://rootsandwingsdistillery.ca/event/the-early-beats/
LOCATION:Roots and Wings Distillery\, 7897 240th Street\, Langley\, British Columbia\, V1M 3P9\, Canada
CATEGORIES:Live Music
ATTACH;FMTTYPE=image/png:https://rootsandwingsdistillery.ca/wp-content/uploads/2026/03/THE-EARLY-BEATS-at-Roots-and-Wings-Distillery-Langley-BC-July-4-2026-scaled.png
END:VEVENT
END:VCALENDAR