BEGIN:VCALENDAR
VERSION:2.0
PRODID:-//Roots and Wings Distillery - ECPv6.15.20//NONSGML v1.0//EN
CALSCALE:GREGORIAN
METHOD:PUBLISH
X-ORIGINAL-URL:https://rootsandwingsdistillery.ca
X-WR-CALDESC:Events for Roots and Wings Distillery
REFRESH-INTERVAL;VALUE=DURATION:PT1H
X-Robots-Tag:noindex
X-PUBLISHED-TTL:PT1H
BEGIN:VTIMEZONE
TZID:UTC
BEGIN:STANDARD
TZOFFSETFROM:+0000
TZOFFSETTO:+0000
TZNAME:UTC
DTSTART:20250101T000000
END:STANDARD
END:VTIMEZONE
BEGIN:VEVENT
DTSTART;TZID=UTC:20260627T120000
DTEND;TZID=UTC:20260627T180000
DTSTAMP:20260422T221216
CREATED:20260304T194247Z
LAST-MODIFIED:20260311T181915Z
UID:10000662-1782561600-1782583200@rootsandwingsdistillery.ca
SUMMARY:Annual Summertime Sip N' Shop
DESCRIPTION:Annual Summertime Sip N’ Shop\n\n Kick Off Summer at the Roots and Wings Distillery Annual Sip N’ Shop!\n\n\nSummer starts here. Join us at Roots and Wings Distillery for our Annual Summertime Sip N’ Shop happening Saturday\, June 27th from 12:00 PM – 6:00 PM — and yes\, it’s free to attend!\nSpend the afternoon soaking up sunshine\, sipping handcrafted spirits and refreshing summer cocktails\, and browsing a curated lineup of incredible local artisan vendors. With live music all afternoon\, a relaxed farm atmosphere\, yard games\, and plenty of space to gather with friends\, this is the kind of day you’ll want to linger in.\nWhether you’re discovering your new favorite local maker\, enjoying a cocktail on the lawn\, or simply embracing those first true summertime vibes — Sip N’ Shop is your perfect excuse to slow down\, connect\, and enjoy community.\nMark your calendar. Bring your friends. Come thirsty for summer. 🌿🥂\nSaturday\, June 27th | 12:00 PM – 6:00 PM\nRoots and  Wings Distillery\n\nLive on the Rail Car Stage \n\nJac Matthew 1 to 4pm\nGavin Harper 5 to 8pm
URL:https://rootsandwingsdistillery.ca/event/annual-summertime-sip-n-shop/
LOCATION:Roots and Wings Distillery\, 7897 240th Street\, Langley\, British Columbia\, V1M 3P9\, Canada
CATEGORIES:Artisan market,Live Music
ATTACH;FMTTYPE=image/png:https://rootsandwingsdistillery.ca/wp-content/uploads/2026/03/Sip-N-Shop-2026.png
END:VEVENT
END:VCALENDAR