BEGIN:VCALENDAR
VERSION:2.0
PRODID:-//Roots and Wings Distillery - ECPv6.15.20//NONSGML v1.0//EN
CALSCALE:GREGORIAN
METHOD:PUBLISH
X-WR-CALNAME:Roots and Wings Distillery
X-ORIGINAL-URL:https://rootsandwingsdistillery.ca
X-WR-CALDESC:Events for Roots and Wings Distillery
REFRESH-INTERVAL;VALUE=DURATION:PT1H
X-Robots-Tag:noindex
X-PUBLISHED-TTL:PT1H
BEGIN:VTIMEZONE
TZID:UTC
BEGIN:STANDARD
TZOFFSETFROM:+0000
TZOFFSETTO:+0000
TZNAME:UTC
DTSTART:20250101T000000
END:STANDARD
END:VTIMEZONE
BEGIN:VEVENT
DTSTART;TZID=UTC:20260531T140000
DTEND;TZID=UTC:20260531T180000
DTSTAMP:20260422T203247
CREATED:20260316T145404Z
LAST-MODIFIED:20260407T202543Z
UID:10000674-1780236000-1780250400@rootsandwingsdistillery.ca
SUMMARY:May Hat Bar Event
DESCRIPTION:Hat Bar Event\n  \nWelcome to our second Hat Bar Event in at Roots and Wings Distillery! \n🌾 LANGLEY — WE’RE COMIN’ IN HOT! 🤠 \nCatch us May 31st at Roots and Wings Distillery for a Saddle & Spurs Hat Bar experience you won’t forget! \nAddress: 7897 240 St\, Langley Twp\, BC V1M 3P9 \nWe are British Columbia’s FIRST traveling hat bar\, proudly based out of Kamloops with our own storefront — and we’re bringing our signature Nashville-style experience straight to the coast! \nWe’re talkin’: \n🔥 Custom Western + Rancher Hats prices starting at $65-167 \n🔥 Hat burning + hat branding $5-60 \n🔥 Full-on western flair \n🔥 Good drinks\, local shopping & bold vibes \nWe’re so excited to be popping up in British Columbia’s horse capital — Langley — and we can’t wait to bring all the fun your way! \n(THIS IS JUST A BOOKING FORM FOR NUMBERS AND TIMELINE FOR THE DAY! ALL OF OUR HATS COME WITH 1 HAT 4 ACCESSORIES) \nLet’s get western\, Langley! 🖤 \nBook your time slot HERE \nLive Music from Old Growth band will be there from 4 to 7pm \n 
URL:https://rootsandwingsdistillery.ca/event/may-hat-bar-event/
LOCATION:British Columbia
CATEGORIES:Crafting,Live Music
ATTACH;FMTTYPE=image/jpeg:https://rootsandwingsdistillery.ca/wp-content/uploads/2026/03/IMG_20260315_164043_710.jpg
END:VEVENT
BEGIN:VEVENT
DTSTART;TZID=UTC:20260531T160000
DTEND;TZID=UTC:20260531T190000
DTSTAMP:20260422T203247
CREATED:20260305T215443Z
LAST-MODIFIED:20260316T191229Z
UID:10000667-1780243200-1780254000@rootsandwingsdistillery.ca
SUMMARY:Live at the Rail Car Stage - May 31 Old Growth
DESCRIPTION:Live at the Rail Car Stage – May 31st Old Growth\nFriday Nights on the Rail Car Stage \n\nThere’s something magical about a summer evening at Roots and Wings Distillery.\nEvery Friday from 6:00 PM – 9:00 PM\, the rail car stage comes alive with incredible live music set against our beautiful farm backdrop. As the sun slowly dips behind the fields and the sky turns gold\, the music drifts across the property\, cocktails are poured\, and the week officially melts away.\nIt’s relaxed. It’s welcoming. It’s the perfect mix of handcrafted spirits\, open skies\, and authentic local talent. Bring your friends\, grab a drink\, find your spot on the lawn\, and let the rhythm of Friday night carry you into the weekend.\nIf you’re looking for the place to be on Friday nights — you just found it.
URL:https://rootsandwingsdistillery.ca/event/live-at-the-rail-car-stage-may-30-old-growth/
LOCATION:Roots and Wings Distillery\, 7897 240th Street\, Langley\, British Columbia\, V1M 3P9\, Canada
CATEGORIES:Live Music
ATTACH;FMTTYPE=image/jpeg:https://rootsandwingsdistillery.ca/wp-content/uploads/2026/03/IMG_4087.jpeg
END:VEVENT
END:VCALENDAR