BEGIN:VCALENDAR
VERSION:2.0
PRODID:-//Roots and Wings Distillery - ECPv6.15.20//NONSGML v1.0//EN
CALSCALE:GREGORIAN
METHOD:PUBLISH
X-WR-CALNAME:Roots and Wings Distillery
X-ORIGINAL-URL:https://rootsandwingsdistillery.ca
X-WR-CALDESC:Events for Roots and Wings Distillery
REFRESH-INTERVAL;VALUE=DURATION:PT1H
X-Robots-Tag:noindex
X-PUBLISHED-TTL:PT1H
BEGIN:VTIMEZONE
TZID:UTC
BEGIN:STANDARD
TZOFFSETFROM:+0000
TZOFFSETTO:+0000
TZNAME:UTC
DTSTART:20230101T000000
END:STANDARD
END:VTIMEZONE
BEGIN:VEVENT
DTSTART;TZID=UTC:20250726T140000
DTEND;TZID=UTC:20250726T190000
DTSTAMP:20260423T000523
CREATED:20250611T162936Z
LAST-MODIFIED:20250706T024338Z
UID:10000119-1753538400-1753556400@rootsandwingsdistillery.ca
SUMMARY:The Big Dirty - Mud Wrestling
DESCRIPTION:The Big Dirty – Mud Wrestling \n​ \nTo Participate in the mud wrestling\, your ticket is your Registration Fee tickets below for you and your opponent or group! \n  \nGet ready to get down and dirty at the hottest mud wrestling event in town – “The Big Dirty”! 🤼‍♂️ Hosted at the one and only Roots and Wings Distillery on July 26\, this event is guaranteed to be a mud-slinging extravaganza from 2:00 p.m. to 7:00 p.m.! \nJoin us for an afternoon of fierce competition\, muddy mayhem\, and sassy showdowns as contestants battle it out in the muck for glory and bragging rights. Whether you’re a wrestling fanatic or just looking for some good old-fashioned fun\, The Big Dirty is the place to be! \nSo grab your squad\, put on your wildest wrestling attire\, and prepare for an epic afternoon of mud\, sweat\, and cheers! Don’t miss out on the action-packed event of the summer – come witness the chaos\, the laughter\, and the pure unadulterated fun at The Big Dirty! 💪🏼🤩🎉 \nTo top off the evening we have Live music in to make some noise and celebrate the participants! \nIf you wish to Participate in the mud wrestling\, sign up by purchasing a ticket below for opponent or team ! \nIts a FREE event to attend and cheer on those getting involved in the Big Dirty!! \n  \nHere’s what you can expect at the event: \n\n**Sign-up:** Participants can sign up below with the person they want to wrestle. Whether it’s a friend\, a significant other\, or even a friendly rival\, get ready to take on the challenge in the mud pit!\n**Fee:** The registration is $20!! So not only do you get to wrestle in the mud\, but you also get a cool souvenir to remember the experience.\n**Waiver:** Before stepping into the mud pit\, all participants will be required to sign a waiver to ensure everyone’s safety during the event. Safety is a top priority\, and we want everyone to have a fun and enjoyable time.\n**Show up and have fun:** Once you’ve signed up\, signed the waiver\, and geared up in your wrestling attire\, it’s time to get dirty! Get ready to dive into the mud\, grapple with your opponent\, and enjoy a thrilling and laughter-filled experience like no other.\n**Cold Shower Onsite** So you can wash off the mud slinging good time bring a change of clothes and a towel.\n\nSo\, come on down to Roots and Wings Distillery\, bring your competitive spirit\, and get ready for an unforgettable day of big dirty mud wrestling fun! \nLive Music from the Unbranded starting at 3pm \n  \nIf you wish to Participate in the mud wrestling\, Purchase tickets below for your team! \nIts a FREE event to attend and cheer on those getting involved in the Big Dirty!!
URL:https://rootsandwingsdistillery.ca/event/the-big-dirty-mud-wrestling-2/
LOCATION:Roots and Wings Distillery\, 7897 240th Street\, Langley\, British Columbia\, V1M 3P9\, Canada
CATEGORIES:Life Music
ATTACH;FMTTYPE=image/jpeg:https://rootsandwingsdistillery.ca/wp-content/uploads/2025/06/3v.jpg
END:VEVENT
BEGIN:VEVENT
DTSTART;TZID=UTC:20250712T140000
DTEND;TZID=UTC:20250712T190000
DTSTAMP:20260423T000523
CREATED:20250611T164221Z
LAST-MODIFIED:20250707T012009Z
UID:10000120-1752328800-1752346800@rootsandwingsdistillery.ca
SUMMARY:The Big Dirty - Muddy Tug-O-War
DESCRIPTION:The Big Dirty – Muddy Tug-o-War \n​ \nTo Participate in the Muddy Tug-o-War\, your ticket is your $50 TEAM Registration Fee tickets below for your team! \n  \nGet ready to get down and dirty at the hottest Tug-O-War event in town – “The Big Dirty”! 🤼‍♂️ Hosted at the one and only Roots and Wings Distillery on July 12th\, this event is guaranteed to be a mud-slinging extravaganza from 2:00 p.m. to 7:00 p.m.! \nJoin us for an afternoon of fierce competition\, muddy mayhem\, and sassy showdowns as contestants battle it out in the muck for glory and bragging rights. Whether you’re a wrestling fanatic or just looking for some good old-fashioned fun\, The Big Dirty is the place to be! \nSo grab your squad\, put on your wildest team attire\, and prepare for an epic afternoon of mud\, sweat\, and cheers! Don’t miss out on the action-packed event of the summer – come witness the chaos\, the laughter\, and the pure unadulterated fun at The Big Dirty! 💪🏼🤩🎉 \nTo top off the evening we have Live music in to make some noise and celebrate the participants! \nIf you wish to Participate in the Muddy Tug-o-War\, sign up by purchasing a ticket below for your team! \nIts a FREE event to attend and cheer on those getting involved in the Big Dirty!! \n  \nHere’s what you can expect at the event: \n\n**Sign-up:** Participants can sign up below with their team (4 to 6 Per team). Sign up two teams or ten to battle against each other or you can be pitted against an unknown rival team!\n**Fee:** The registration is $50 per team!! So assign your team leader and let the games begin!\n**Waiver:** Before stepping into the mud pit\, all participants will be required to sign a waiver to ensure everyone’s safety during the event. Safety is a top priority\, and we want everyone to have a fun and enjoyable time.\n**Show up and have fun:** Once you’ve signed up\, signed the waiver\, and geared up in your team attire\, it’s time to get dirty! Get ready to dive into the mud\, grapple with your opponent\, and enjoy a thrilling and laughter-filled experience like no other.\n**Cold Outdoor Shower Onsite** So you can wash off the mud slinging good time bring a change of clothes and a towel.\n\nSo\, come on down to Roots and Wings Distillery\, bring your competitive spirit\, and get ready for an unforgettable day of big dirty muddy Tug O War fun! \nLive music from the poor Boy Trio starting at 2pm! \n  \nIf you wish to Participate in the Muddy Tug-o-War\, Purchase tickets below for your team! \nIts a FREE event to attend and cheer on those getting involved in the Big Dirty!!
URL:https://rootsandwingsdistillery.ca/event/the-big-dirty-muddy-tug-o-war/
LOCATION:Roots and Wings Distillery\, 7897 240th Street\, Langley\, British Columbia\, V1M 3P9\, Canada
CATEGORIES:Life Music
ATTACH;FMTTYPE=image/jpeg:https://rootsandwingsdistillery.ca/wp-content/uploads/2025/06/mud-wrestling-4.jpg
END:VEVENT
BEGIN:VEVENT
DTSTART;TZID=UTC:20250615T130000
DTEND;TZID=UTC:20250615T190000
DTSTAMP:20260423T000523
CREATED:20250604T184949Z
LAST-MODIFIED:20250604T184949Z
UID:10000054-1749992400-1750014000@rootsandwingsdistillery.ca
SUMMARY:Fathers Day Fun - June 15th
DESCRIPTION:Fathers Day Fun\n  \n🎉 Celebrate Father’s Day with a Day Full of Fun! 🎉 \nJoin us on **Sunday\, June 15th** for a fantastic Father’s Day celebration packed with live music\, yard games\, and whiskey cocktails — Free to Attend! \n🕐 **Event Details:**\n– **Time:** 1:00 PM – 7:00 PM\n– **Live Music:** 3:00 PM – 6:00 PM\n– **Location:** Roots and Wings Distillery \nKick off the afternoon with family-friendly yard games\, perfect for all ages\, and enjoy the lively atmosphere. As the sun sets\, settle in to groove to live tunes from talented local musicians from 3:00 to 6:00 PM — the perfect soundtrack for your Father’s Day celebration. \nSip on delicious whiskey cocktails crafted just for the occasion\, and make this Father’s Day one to remember! Whether you’re celebrating dads\, grandfathers\, or just the joy of family\, there’s something for everyone. \nBring your loved ones\, your friends\, and your festive spirit — we can’t wait to celebrate with you! \nThe Fishing Panda Food Truck will be onsite all day!
URL:https://rootsandwingsdistillery.ca/event/fathers-day-fun-june-15th/
LOCATION:Roots and Wings Distillery\, 7897 240th Street\, Langley\, British Columbia\, V1M 3P9\, Canada
CATEGORIES:Drinks and Food,Life Music
ATTACH;FMTTYPE=image/png:https://rootsandwingsdistillery.ca/wp-content/uploads/2025/06/Fathers-Day.png
END:VEVENT
BEGIN:VEVENT
DTSTART;TZID=UTC:20240824T140000
DTEND;TZID=UTC:20240824T190000
DTSTAMP:20260423T000523
CREATED:20240628T000645Z
LAST-MODIFIED:20240805T160508Z
UID:10000026-1724508000-1724526000@rootsandwingsdistillery.ca
SUMMARY:The Big Dirty - Mud Wrestling
DESCRIPTION:The Big Dirty – Mud Wrestling\n​ \nTo Participate in the mud wrestling\, RSVP tickets below for you and your opponent or group!\n \nGet ready to get down and dirty at the hottest mud wrestling event in town – “The Big Dirty”! 🤼‍♂️ Hosted at the one and only Roots an Wings Distillery on August 24th\, this event is guaranteed to be a mud-slinging extravaganza from 2:00 p.m. to 7:00 p.m.! \nJoin us for an afternoon of fierce competition\, muddy mayhem\, and sassy showdowns as contestants battle it out in the muck for glory and bragging rights. Whether you’re a wrestling fanatic or just looking for some good old-fashioned fun\, The Big Dirty is the place to be! \nSo grab your squad\, put on your wildest wrestling attire\, and prepare for an epic afternoon of mud\, sweat\, and cheers! Don’t miss out on the action-packed event of the summer – come witness the chaos\, the laughter\, and the pure unadulterated fun at The Big Dirty! 💪🏼🤩🎉 \nTop top off the evening we have the Courtney Hunt Trio coming in to make some noise and celebrate the participants! \nIf you wish to Participate in the mud wrestling\, sign up by RSVP’ing below for you and your opponent or group!\nIts  a FREE event to attend and cheer on those getting involved in the Big Dirty!!\n  \nHere’s what you can expect at the event: \n1. **Sign-up:** Participants can sign up below with the person they want to wrestle. Whether it’s a friend\, a significant other\, or even a friendly rival\, get ready to take on the challenge in the mud pit! \n2. **Fee:** The registration is free!! So not only do you get to wrestle in the mud\, but you also get a cool souvenir to remember the experience. \n3. **Waiver:** Before stepping into the mud pit\, all participants will be required to sign a waiver to ensure everyone’s safety during the event. Safety is a top priority\, and we want everyone to have a fun and enjoyable time. \n4. **Show up and have fun:** Once you’ve signed up\, signed the waiver\, and geared up in your wrestling attire\, it’s time to get dirty! Get ready to dive into the mud\, grapple with your opponent\, and enjoy a thrilling and laughter-filled experience like no other. \nSo\, come on down to Roots and Wings Distillery\, bring your competitive spirit\, and get ready for an unforgettable day of big dirty mud wrestling fun! \n  \nIf you wish to Participate in the mud wrestling\, RSVP below for you and your opponent or group!\nIts  a FREE event to attend and cheer on those getting involved in the Big Dirty!!
URL:https://rootsandwingsdistillery.ca/event/the-big-dirty-mud-wrestling/
LOCATION:Roots and Wings Distillery\, 7897 240th Street\, Langley\, British Columbia\, V1M 3P9\, Canada
CATEGORIES:Life Music
ATTACH;FMTTYPE=application/pdf:https://rootsandwingsdistillery.ca/wp-content/uploads/2024/06/The-Big-Dirty.pdf
END:VEVENT
BEGIN:VEVENT
DTSTART;TZID=UTC:20240706T140000
DTEND;TZID=UTC:20240706T200000
DTSTAMP:20260423T000523
CREATED:20240516T180756Z
LAST-MODIFIED:20240516T180756Z
UID:10000024-1720274400-1720296000@rootsandwingsdistillery.ca
SUMMARY:Roots and Wings Distillery Customer Appreciation Day
DESCRIPTION:**Roots and Wings Customer Appreciation Day – July 6th\, 2:00-8:00 p.m.**\nRoots and Wings is thrilled to announce our upcoming Customer Appreciation Day on July 6th from 2:00 to 8:00 p.m. This special event is our way of saying a heartfelt thank you to all our loyal customers who have supported us over the years\, as well as an invitation to those who have yet to experience the unique charm of our establishment. \nJoin us for a day filled with fun\, festivities\, and appreciation as we celebrate the relationships we have built with our customers. From delicious food to exciting activities\, there will be something for everyone to enjoy. Whether you are a longtime patron or a first-time visitor\, we welcome you to come and experience the warmth and hospitality that define Roots and Wings Distillery. \nFor those who have not had the pleasure of visiting our venue before\, this is the perfect opportunity to discover what makes Roots and Wings so special. Immerse yourself in the tranquility of the countryside and let us show you a glimpse of life away from the hustle and bustle of the city. \nThroughout the event\, we will have special promotions\, discounts\, and giveaways as a token of our appreciation for your continued support. Our team will be on hand to assist you\, answer any questions you may have\, and ensure that your experience with us is nothing short of exceptional. \nSo mark your calendars for July 6th and make plans to spend the day with us at Roots and Wings. Come and see for yourself why our customers keep coming back\, and let us welcome you into our community with open arms. We can’t wait to show you what life is like in the country and create lasting memories together.
URL:https://rootsandwingsdistillery.ca/event/roots-and-wings-distillery-customer-appreciation-day/
LOCATION:British Columbia
CATEGORIES:Drinks and Food,Life Music
ATTACH;FMTTYPE=image/jpeg:https://rootsandwingsdistillery.ca/wp-content/uploads/2024/05/Lawn_Bowling_2018-1048.jpg-3600×2403-scaled.jpeg
END:VEVENT
BEGIN:VEVENT
DTSTART;TZID=UTC:20240608T130000
DTEND;TZID=UTC:20240608T170000
DTSTAMP:20260423T000523
CREATED:20240516T175023Z
LAST-MODIFIED:20240521T183527Z
UID:10000023-1717851600-1717866000@rootsandwingsdistillery.ca
SUMMARY:Starfish Pack Fundraiser
DESCRIPTION:Starfish Pack Fundraiser\nJoin us for a truly heartwarming and uplifting event in Langley – the Starfish Backpack Fundraiser\, brought to you by Langley Sunrise Rotary\, Haven Kitchen + Bar\, The Barley Merchant\, and Roots and Wings Distillery! \nMark your calendars for Saturday\, June 8th\, 2024\, from 1:00 to 5:00 p.m. at the charming Roots and Wings Distillery in Langley. This event promises an unforgettable afternoon filled with cocktails\, delectable snacks\, toe-tapping live music\, and most importantly\, a chance to make a difference in the lives of children in our community. \nFor just $50 per ticket\, you can enjoy a delightful array of craft cocktails expertly prepared by Roots and Wings Distillery\, paired with mouthwatering snacks that will tantalize your taste buds. As you sip and savor\, immerse yourself in the soulful melodies of live music that will set the perfect ambiance for this special occasion. \nBut the true essence of this event lies in the cause it supports – ensuring that no child in Langley goes hungry over the weekend. By participating in the Starfish Backpack Fundraiser\, you are contributing to a noble mission that aims to provide essential nourishment and support to those in need. \nLet’s come together as a community\, share in the joy of giving\, and make a meaningful impact on the lives of children who deserve our care and support. Don’t miss this opportunity to be a part of something truly special – reserve your tickets now and join us for an afternoon of compassion\, camaraderie\, and celebration at Roots and Wings Distillery on June 8th. \nFor tickets please contact Ashley Chalmers 604-999-4341 or come into Roots and Wings Distiller store to purchase.
URL:https://rootsandwingsdistillery.ca/event/starfish-pack-fundraiser/
LOCATION:British Columbia
CATEGORIES:Drinks and Food,Fundraiser,Life Music
ATTACH;FMTTYPE=image/png:https://rootsandwingsdistillery.ca/wp-content/uploads/2024/05/Starfish-Pack-Logo-2019-1.png
END:VEVENT
BEGIN:VEVENT
DTSTART;TZID=UTC:20240128T183000
DTEND;TZID=UTC:20240128T203000
DTSTAMP:20260423T000523
CREATED:20231214T203538Z
LAST-MODIFIED:20240122T173504Z
UID:10000004-1706466600-1706473800@rootsandwingsdistillery.ca
SUMMARY:Necklace Design with Simpleries January 28th - Rescheduled Class
DESCRIPTION:Necklace Design with Simpleries\n  \nJoin us for a unique and creative experience at Roots and Wings Distillery as we delve into the art of making and designing initial necklaces. Get ready to unleash your inner artist and craft a personalized piece that reflects your individual style and personality. \nDuring this special event\, you’ll receive all the materials and guidance needed to create your very own initial necklace. Whether you’re making it for yourself or as a thoughtful gift for a loved one\, this hands-on activity is sure to be both fun and rewarding. \nIn addition to the necklace-making workshop\, you’ll also have the opportunity to savor a signature cocktail crafted by the talented mixologists at Roots and Wings Distillery. Accompanying your drink will be a delicious chewy pretzel\, providing the perfect pairing to complement your creative endeavors. \nThe event is priced at $60 per person\, which includes the necklace-making session\, all necessary supplies\, and the delightful cocktail and pretzel pairing. Don’t miss this chance to indulge in a delightful evening of creativity\, craftsmanship\, and conviviality at Roots and Wings Distillery. \nWhat to Expect: \nYou and your friends can design initial necklaces together! In an easy 4 step process we will create personalized necklaces that is custom-made on the spot for you! It’s done in four simple steps – 1) Pick a pendant 2) Choose a chain 3) Settle on a letter 4) Watch as we create the initial jewelry of your dreams! \n*get a layering chain necklace for $17.50\, 50% off the original price! \n  \n  \n 
URL:https://rootsandwingsdistillery.ca/event/necklace-design-with-simpleries-january-20th/
LOCATION:Roots and Wings Distillery\, 7897 240th Street\, Langley\, British Columbia\, V1M 3P9\, Canada
CATEGORIES:Life Music
ATTACH;FMTTYPE=image/webp:https://rootsandwingsdistillery.ca/wp-content/uploads/2023/12/s804458613698270572_p113_i5_w1365.webp
ORGANIZER;CN="Chelsea del Rosario":MAILTO:simpleriesshop@gmail.com
END:VEVENT
BEGIN:VEVENT
DTSTART;TZID=UTC:20240126T183000
DTEND;TZID=UTC:20240126T210000
DTSTAMP:20260423T000523
CREATED:20231217T045824Z
LAST-MODIFIED:20231220T222408Z
UID:10000006-1706293800-1706302800@rootsandwingsdistillery.ca
SUMMARY:Paint Night With Laura January 26th
DESCRIPTION:Paint Night With Laura January 26th\n  \n🎨🌌 Join Us for a Winter Wonderland Paint Night 🌌🎨 \nEscape the winter blues and unleash your inner artist at our enchanting Paint Night on January 26th\, 2024! Embrace the magic of the season and indulge in a delightful evening of creativity\, delicious cocktails or  mocktails\, and the opportunity to immerse yourself in the serene ambiance of a stunning winter scene. \n🖌️ Captivating Winter Scene 🖌️\nImagine a tranquil winter landscape\, Our featured painting captures the essence of a peaceful winter night\,  among evergreens\, and a sprinkle of glistening snowflakes dancing in the air. As you dip your brush into vibrant hues\, you’ll bring this breathtaking scene to life on your canvas\, creating a masterpiece that embodies the beauty of the season. \n🎨 Full Technique Painting Experience 🎨\nWhether you’re a seasoned artist or discovering your passion for painting\, our professional instructor will guide you through each brushstroke\, providing step-by-step instructions to help you achieve a stunning finished piece. You’ll learn techniques to blend colors\, create depth\, and add intricate details\, all while expressing your own unique artistic style. With a supportive and encouraging atmosphere\, you’ll feel empowered to unleash your creativity and revel in the joy of painting. \n🍸 Hand-Crafted Mocktails for Dry January 🍸\nFor those observing Dry January or simply seeking delightful non-alcoholic beverages\, we invite you to savor our hand-crafted mocktails. Indulge in refreshing concoctions that blend luscious flavors and artistic presentation\, providing the perfect complement to your painting experience. From zesty citrus infusions to elegantly garnished herbal creations\, our mocktails will elevate your evening with a touch of sophistication and flavor\, ensuring that everyone can partake in the festivities. \nFor those of you NOT partaking in Dry January we have you covered! full menu available along with snacks! \n🌟 Event Details 🌟\nDate: January 26th\, 2024\nTime: 7:00 PM – 9:00 PM\nLocation: Roots and Wings Distillery 7897 240th street Langley \n🎟️ Reserve Your Spot Today! 🎟️\nLimited spaces are available for this enchanting Paint Night\, so secure your spot early to ensure an unforgettable evening of artistry and relaxation. Gather your friends\, family\, or colleagues\, and embark on a creative journey that promises to rejuvenate your spirit and ignite your imagination. \n🎨🌌 Embrace the Magic of Winter 🌌🎨\nEmbark on a sensory adventure as you paint\, sip\, and immerse yourself in the captivating allure of a winter wonderland. Let the soothing atmosphere\, the vibrant colors on your palette\, and the company of fellow art enthusiasts transport you to a realm of artistic bliss. Join us on January 26th for an unforgettable Paint Night that celebrates the beauty of the season and the joy of creativity. \nWe look forward to welcoming you to an evening filled with inspiration\, laughter\, and the simple pleasure of creating something beautiful. Don’t miss this opportunity to experience the magic of our Winter Wonderland Paint Night! \n  \nTickets Here
URL:https://rootsandwingsdistillery.ca/event/paint-night-with-laura-january-26th/
LOCATION:Roots and Wings Distillery\, 7897 240th Street\, Langley\, British Columbia\, V1M 3P9\, Canada
CATEGORIES:Life Music
ATTACH;FMTTYPE=image/jpeg:https://rootsandwingsdistillery.ca/wp-content/uploads/2023/12/January-paint-night.jpg
ORGANIZER;CN="Laura":MAILTO:laura5422@gmail.com
END:VEVENT
END:VCALENDAR