BEGIN:VCALENDAR
VERSION:2.0
PRODID:-//Roots and Wings Distillery - ECPv6.15.20//NONSGML v1.0//EN
CALSCALE:GREGORIAN
METHOD:PUBLISH
X-WR-CALNAME:Roots and Wings Distillery
X-ORIGINAL-URL:https://rootsandwingsdistillery.ca
X-WR-CALDESC:Events for Roots and Wings Distillery
REFRESH-INTERVAL;VALUE=DURATION:PT1H
X-Robots-Tag:noindex
X-PUBLISHED-TTL:PT1H
BEGIN:VTIMEZONE
TZID:UTC
BEGIN:STANDARD
TZOFFSETFROM:+0000
TZOFFSETTO:+0000
TZNAME:UTC
DTSTART:20250101T000000
END:STANDARD
END:VTIMEZONE
BEGIN:VEVENT
DTSTART;TZID=UTC:20260508T180000
DTEND;TZID=UTC:20260508T210000
DTSTAMP:20260422T174138
CREATED:20260311T165638Z
LAST-MODIFIED:20260311T165638Z
UID:10000669-1778263200-1778274000@rootsandwingsdistillery.ca
SUMMARY:Live at the Root Cellar Lounge - May 8th Hanlin
DESCRIPTION:Live at the Root Cellar Lounge – May 8th Hanlin\nJoin us at the Root Cellar Lounge on Friday\, May 8th for an evening of live music with Hanlin you won’t want to miss! From 6:00 to 9:00 p.m.\, the lounge will come alive with feel-good tunes\, warm vibes\, and the kind of energy that makes the weekend start early. Whether you’re winding down after work or kicking off a night out\, this is the perfect spot to gather with friends\, sip your favorite drink\, and soak in the sound. \nThe cozy setting of the Root Cellar Lounge creates an up-close experience with the music\, so you can truly feel every note. It’s the kind of night where conversations flow easily\, laughter carries\, and the soundtrack sets the tone for an unforgettable evening.\n\nMake plans now and come early to grab a great seat! From 6:00 to 9:00 p.m.\, the Root Cellar Lounge will be the place to be—good music\, great company\, and a welcoming space where everyone belongs. Bring your friends\, bring your appetite for fun\, and get ready for a Friday night that hits all the right notes.
URL:https://rootsandwingsdistillery.ca/event/live-at-the-root-cellar-lounge-may-8th-hanlin/
LOCATION:Roots and Wings Distillery\, 7897 240th Street\, Langley\, British Columbia\, V1M 3P9\, Canada
CATEGORIES:Live Music
ATTACH;FMTTYPE=image/png:https://rootsandwingsdistillery.ca/wp-content/uploads/2026/03/Live-at-the-Root-Cellar-Lounge-Hanlin.png
END:VEVENT
END:VCALENDAR