BEGIN:VCALENDAR
VERSION:2.0
PRODID:-//Roots and Wings Distillery - ECPv6.15.20//NONSGML v1.0//EN
CALSCALE:GREGORIAN
METHOD:PUBLISH
X-ORIGINAL-URL:https://rootsandwingsdistillery.ca
X-WR-CALDESC:Events for Roots and Wings Distillery
REFRESH-INTERVAL;VALUE=DURATION:PT1H
X-Robots-Tag:noindex
X-PUBLISHED-TTL:PT1H
BEGIN:VTIMEZONE
TZID:UTC
BEGIN:STANDARD
TZOFFSETFROM:+0000
TZOFFSETTO:+0000
TZNAME:UTC
DTSTART:20250101T000000
END:STANDARD
END:VTIMEZONE
BEGIN:VEVENT
DTSTART;TZID=UTC:20260317T170000
DTEND;TZID=UTC:20260317T200000
DTSTAMP:20260422T174243
CREATED:20260219T190616Z
LAST-MODIFIED:20260219T190616Z
UID:10000657-1773766800-1773777600@rootsandwingsdistillery.ca
SUMMARY:St. Patrick's Day at the Root Cellar lounge
DESCRIPTION:St. Patrick’s Day at the Root Cellar lounge\n  \nGet ready to shamrock and roll this St. Patrick’s Day at the Root Cellar Lounge at Roots and Wings Distillery! Join us on March 17th  Whether you’re Irish by blood or just Irish for the day\, everyone’s welcome to raise a glass! \nWe’re featuring $5 beer and $5 whiskey all day long—because what’s St. Patrick’s Day without a proper toast? Grab your friends\, wear your green\, and  cheers of “Sláinte!” The cozy charm of the Root Cellar Lounge makes it the perfect spot to celebrate in style.\nSo mark your calendar for March 17th and make plans to celebrate St. Paddy’s the right way—great drinks\, welcoming faces\, and a whole lot of Irish spirit. The Root Cellar Lounge at Roots and Wings Distillery is the place to be. Come thirsty\, leave happy\, and don’t forget to bring your lucky charm! 🍀🥃
URL:https://rootsandwingsdistillery.ca/event/st-patricks-day-at-the-root-cellar-lounge/
LOCATION:Roots and Wings Distillery\, 7897 240th Street\, Langley\, British Columbia\, V1M 3P9\, Canada
CATEGORIES:Drinks and Food
ATTACH;FMTTYPE=image/png:https://rootsandwingsdistillery.ca/wp-content/uploads/2026/02/Roots-is-open-Tuesday-the-17th-from-5-till-close.png
END:VEVENT
END:VCALENDAR