BEGIN:VCALENDAR
VERSION:2.0
PRODID:-//Roots and Wings Distillery - ECPv6.15.20//NONSGML v1.0//EN
CALSCALE:GREGORIAN
METHOD:PUBLISH
X-WR-CALNAME:Roots and Wings Distillery
X-ORIGINAL-URL:https://rootsandwingsdistillery.ca
X-WR-CALDESC:Events for Roots and Wings Distillery
REFRESH-INTERVAL;VALUE=DURATION:PT1H
X-Robots-Tag:noindex
X-PUBLISHED-TTL:PT1H
BEGIN:VTIMEZONE
TZID:UTC
BEGIN:STANDARD
TZOFFSETFROM:+0000
TZOFFSETTO:+0000
TZNAME:UTC
DTSTART:20250101T000000
END:STANDARD
END:VTIMEZONE
BEGIN:VEVENT
DTSTART;TZID=UTC:20260304T180000
DTEND;TZID=UTC:20260304T203000
DTSTAMP:20260422T174135
CREATED:20260109T210702Z
LAST-MODIFIED:20260109T211307Z
UID:10000280-1772647200-1772656200@rootsandwingsdistillery.ca
SUMMARY:Sip N' Stitch March 4th
DESCRIPTION:Sip N’ Stitch\nRoots and Wings Distillery Sip n Stitch \nJoin us for Roots and Wings Distillery\, for a monthly gathering Sip n Stitch on Wednesday March 4th. From 6:00 p.m. to 8:30 p.m.\, this inspiring event brings together a community of like-minded crafters who share a passion for knitting\, crocheting\, and all kinds of creative handiwork. \nWhether you’re a seasoned stitcher or just starting out\, Roots and Wings Distillery offers a warm\, welcoming atmosphere where you can learn new techniques\, exchange ideas\, and find encouragement among fellow craft enthusiasts. It’s more than just crafting — it’s about building connections\, nurturing your creative spirit\, and feeling rooted in a community that celebrates the art of making. \nCome sip on your favorite beverage\, unwind\, and let your creativity take flight. We look forward to stitching\, sharing\, and growing together with you every month!
URL:https://rootsandwingsdistillery.ca/event/sip-n-stitch-march-4th/
LOCATION:Roots and Wings Distillery\, 7897 240th Street\, Langley\, British Columbia\, V1M 3P9\, Canada
CATEGORIES:Crafting
ATTACH;FMTTYPE=image/png:https://rootsandwingsdistillery.ca/wp-content/uploads/2026/01/Knitting-Class-Instagram-Post-8.5-x-11-in9.png
END:VEVENT
END:VCALENDAR