BEGIN:VCALENDAR
VERSION:2.0
PRODID:-//Roots and Wings Distillery - ECPv6.15.20//NONSGML v1.0//EN
CALSCALE:GREGORIAN
METHOD:PUBLISH
X-WR-CALNAME:Roots and Wings Distillery
X-ORIGINAL-URL:https://rootsandwingsdistillery.ca
X-WR-CALDESC:Events for Roots and Wings Distillery
REFRESH-INTERVAL;VALUE=DURATION:PT1H
X-Robots-Tag:noindex
X-PUBLISHED-TTL:PT1H
BEGIN:VTIMEZONE
TZID:UTC
BEGIN:STANDARD
TZOFFSETFROM:+0000
TZOFFSETTO:+0000
TZNAME:UTC
DTSTART:20250101T000000
END:STANDARD
END:VTIMEZONE
BEGIN:VEVENT
DTSTART;TZID=UTC:20260213T170000
DTEND;TZID=UTC:20260213T200000
DTSTAMP:20260422T193050
CREATED:20260119T173044Z
LAST-MODIFIED:20260121T202806Z
UID:10000285-1771002000-1771012800@rootsandwingsdistillery.ca
SUMMARY:Valentine’s Day Date Night at Roots and Wings Distillery
DESCRIPTION:💕 Valentine’s Day Date Night at Roots and Wings Distillery 💕\nLove is on the menu at Roots and Wings Distillery\, and we’re serving it up with style. Join us for a Dine-for-Two experience for just $69.99\, where bold flavors\, great drinks\, and good vibes set the mood for an unforgettable night out. \nSip on our artisan cocktails\, handcrafted with our signature spirits and fresh ingredients—or mix it up with our selection of beer\, wine\, and cider. Enjoy a freshly curated Appetizer along with your own personal a crave-worthy pizza\, then sweeten the deal with a dreamy chocolate dessert made for two. 🍸🍕🍰 \nWhats includes in the $69.99 \n\n\n\n2 x highballs \n\n\n1 x Appetizer \n\n\n2 x 10″ pizza \n\n\n2 x beer/Wine/cider/or highball \n\n\n1x Dessert \n\n\n\n✨ Want to turn the romance all the way up? ✨\nAdd on our Sweetheart Table Upgrade for $69—because subtle is overrated. This flirty extra includes a beautiful basket of flowers waiting at your table\, plus two mini bottles of our handcrafted spirits to enjoy later at home. Think of it as the gift that keeps the date going. 😘🥃 \n🔥 Reservations are limited—don’t wait!\nBook your table now and save your spot for a fun\, sassy\, and seriously delicious Valentine’s night with your love. 💖 \n  \nBookings available Friday Feb 13th and Saturday Feb 14th from 5pm to 8pm email marketing@rawstillhouse.ca
URL:https://rootsandwingsdistillery.ca/event/valentines-day-date-night-at-roots-and-wings-distillery/
LOCATION:Roots and Wings Distillery\, 7897 240th Street\, Langley\, British Columbia\, V1M 3P9\, Canada
CATEGORIES:Drinks and Food
ATTACH;FMTTYPE=image/png:https://rootsandwingsdistillery.ca/wp-content/uploads/2026/01/Dine-unwind.png
END:VEVENT
END:VCALENDAR