BEGIN:VCALENDAR
VERSION:2.0
PRODID:-//Roots and Wings Distillery - ECPv6.15.20//NONSGML v1.0//EN
CALSCALE:GREGORIAN
METHOD:PUBLISH
X-ORIGINAL-URL:https://rootsandwingsdistillery.ca
X-WR-CALDESC:Events for Roots and Wings Distillery
REFRESH-INTERVAL;VALUE=DURATION:PT1H
X-Robots-Tag:noindex
X-PUBLISHED-TTL:PT1H
BEGIN:VTIMEZONE
TZID:UTC
BEGIN:STANDARD
TZOFFSETFROM:+0000
TZOFFSETTO:+0000
TZNAME:UTC
DTSTART:20240101T000000
END:STANDARD
END:VTIMEZONE
BEGIN:VEVENT
DTSTART;TZID=UTC:20251211T190000
DTEND;TZID=UTC:20251211T210000
DTSTAMP:20260422T224715
CREATED:20251119T224542Z
LAST-MODIFIED:20251120T165602Z
UID:10000274-1765479600-1765486800@rootsandwingsdistillery.ca
SUMMARY:Wreath-Making Workshop - Styled by Wild
DESCRIPTION:Wreath-Making Workshop – Styled by Wild\nwith Angelica Arbic: A Magical Experience ✨ \nJoin Angelica Arbic for an unforgettable wreath-making workshop that will leave you with more than just a beautiful wreath—this is a night filled with creativity\, connection\, and seasonal magic. Under Angelica’s expert guidance\, you’ll craft your own stunning\, one-of-a-kind wreath using fresh greenery\, vibrant seasonal accents\, and a variety of embellishments to bring your vision to life. Whether you’re celebrating the holidays or simply welcoming the changing seasons\, this hands-on experience will help you create a wreath that perfectly reflects your personal style and festive spirit. \nEnjoy a fun\, relaxed atmosphere where you can tap into your creativity\, learn new skills\, and make lasting memories with like-minded individuals. By the end of the night\, you’ll walk away with a gorgeous wreath to hang proudly on your door\, spreading joy and seasonal cheer to all who visit. Don’t miss this magical evening—it’s the perfect way to celebrate the season and bring a little extra beauty into your home! \nWhat’s included? Everything you need\, clippers\, gloves\, the wreath frame\, greenery & lots of festive decor to make the perfect wreath to hang on your door! \nBook Your Christmas Wreath Workshop Appointment! \nBy booking\, you will secure your spot for the selected workshop date. Enjoy an evening of creativity and fun as you craft your own festive wreath! \nCost: $65.00 per person (includes all materials).\nCapacity: Maximum of 14 guests per night\, ensuring an intimate and engaging experience.\nRefund Policy: Please note that bookings are non-refundable.\nLocation: 7897 240th st Langley
URL:https://rootsandwingsdistillery.ca/event/wreath-making-workshop-styled-by-wild/
LOCATION:Roots and Wings Distillery\, 7897 240th Street\, Langley\, British Columbia\, V1M 3P9\, Canada
CATEGORIES:Workshop
ATTACH;FMTTYPE=image/png:https://rootsandwingsdistillery.ca/wp-content/uploads/2025/11/Wreath-Making-Workshop-December-11th-Thursday-Time-7pm-to-9pm-Cost-65.png
END:VEVENT
END:VCALENDAR