BEGIN:VCALENDAR
VERSION:2.0
PRODID:-//Roots and Wings Distillery - ECPv6.15.20//NONSGML v1.0//EN
CALSCALE:GREGORIAN
METHOD:PUBLISH
X-WR-CALNAME:Roots and Wings Distillery
X-ORIGINAL-URL:https://rootsandwingsdistillery.ca
X-WR-CALDESC:Events for Roots and Wings Distillery
REFRESH-INTERVAL;VALUE=DURATION:PT1H
X-Robots-Tag:noindex
X-PUBLISHED-TTL:PT1H
BEGIN:VTIMEZONE
TZID:UTC
BEGIN:STANDARD
TZOFFSETFROM:+0000
TZOFFSETTO:+0000
TZNAME:UTC
DTSTART:20240101T000000
END:STANDARD
END:VTIMEZONE
BEGIN:VEVENT
DTSTART;TZID=UTC:20250927T120000
DTEND;TZID=UTC:20250927T210000
DTSTAMP:20260423T033800
CREATED:20250829T013836Z
LAST-MODIFIED:20250903T195446Z
UID:10000198-1758974400-1759006800@rootsandwingsdistillery.ca
SUMMARY:Roots and Wings Distillery Harvest Fest
DESCRIPTION:Roots and Wings Distillery Harvest Fest\nBring on the country and celebrate the season with Roots and Wings Distillery! This year’s Harvest Fest is all about savoring the fruits of the earth\, embracing autumn’s arrival\, and toasting to good times with great company. \nWhat to Expect \n– 🎵 Live Music vibes: Tunes that’ll get your boots tapping and your heart humming With Madisyn Gifford from 6 to 9pm\n– 🍁 Autumn-inspired bites: Table snacks that pair perfectly with our spirits.\n– 🥃 Cocktail Specials: Harvest expressions you won’t want to miss.\n– 🧭 Scenic setting: A warm\, rustic celebration in the heart of the season. \nWhy You’ll Love It \n– Embrace the transition from summer to fall with flavors that celebrate the harvest.\n– A laid-back\, feel-good atmosphere perfect for friends\, family\, and Four-legged fur babies!\n– The best way to kick off autumn: with great spirits\, cozy vibes\, and unforgettable memories. \nPractical Details \n– Date: Saturday\, September 27\n– Time: 12:00 p.m. – 9:00 p.m.\n– Location: Roots and Wings Distillery 7897 240th st Langley\n– Tickets: Free to attend\n– Attire: Casual with a touch of country flair \n– Plenty of parking or there is always Uber \nJoin the Celebration \nLet’s welcome autumn with a harvest-happy celebration that creates tradition\, community\, and the roots that ground us. We can’t wait to see you there—bring on the country and let the good times grow.
URL:https://rootsandwingsdistillery.ca/event/roots-and-wings-distillery-harvest-fest/
LOCATION:Roots and Wings Distillery\, 7897 240th Street\, Langley\, British Columbia\, V1M 3P9\, Canada
CATEGORIES:Drinks and Food,Live Music
ATTACH;FMTTYPE=image/png:https://rootsandwingsdistillery.ca/wp-content/uploads/2025/08/Harvest1.png
END:VEVENT
END:VCALENDAR