BEGIN:VCALENDAR
VERSION:2.0
PRODID:-//Roots and Wings Distillery - ECPv6.15.20//NONSGML v1.0//EN
CALSCALE:GREGORIAN
METHOD:PUBLISH
X-WR-CALNAME:Roots and Wings Distillery
X-ORIGINAL-URL:https://rootsandwingsdistillery.ca
X-WR-CALDESC:Events for Roots and Wings Distillery
REFRESH-INTERVAL;VALUE=DURATION:PT1H
X-Robots-Tag:noindex
X-PUBLISHED-TTL:PT1H
BEGIN:VTIMEZONE
TZID:UTC
BEGIN:STANDARD
TZOFFSETFROM:+0000
TZOFFSETTO:+0000
TZNAME:UTC
DTSTART:20240101T000000
END:STANDARD
END:VTIMEZONE
BEGIN:VEVENT
DTSTART;TZID=UTC:20250801T180000
DTEND;TZID=UTC:20250801T210000
DTSTAMP:20260423T051351
CREATED:20250723T162507Z
LAST-MODIFIED:20250723T162507Z
UID:10000190-1754071200-1754082000@rootsandwingsdistillery.ca
SUMMARY:Friday Night Lights - Tyler Cody
DESCRIPTION:Friday Night Lights – Tyler Cody\nExperience an Unforgettable Night at Roots & Wings Distillery with Live Music on August 1st! \nLooking for a perfect summer evening filled with good vibes\, great music\, and a welcoming community? Mark your calendars for August 1st and head down to Roots and Wings Distillery\, where memorable night awaits you at the Railcar Stage! \nJoin Us for Live Music with Tyler Cody \nWhy You Shouldn’t Miss This Event \n– Vibrant Atmosphere: Roots and Wings Distillery boasts a warm\, inviting ambiance perfect for socializing\, unwinding\, and enjoying live entertainment.\n– Delicious Drinks & Food: Sip on handcrafted spirits and enjoy tasty bites from our curated menu—what better way to complement live music?\n– Community Vibe: Connect with fellow music fans\, locals\, and visitors alike in a friendly\, laid-back setting.\n– Beautiful Setting: The Railcar Stage offers a scenic outdoor backdrop\, making it an ideal spot to soak in the summer evening. \nDetails to Remember \n– Date:Friday\, August 1st\n– Time: Music kicks off at 6:00 PM\n– Location: Roots and Wings Distillery\, 7897 240th st\n– Tickets: Free admission! Just bring your friends and family. (leashed pets welcome) \nCome Celebrate Music\, Community\, and Good Spirits \nWhether you’re a longtime supporter of local music or discovering new favorites\, this event is the perfect opportunity to enjoy an evening of soulful melodies and community spirit. Bring your friends\, bring your family\, and come experience the magic at Roots and Wings Distillery. \nWe can’t wait to see you there!  Cheers to good music and great company! \nStay Connected \nFollow us on social media @rawstillhouse for updates and more upcoming events. See you at the Railcar Stage!
URL:https://rootsandwingsdistillery.ca/event/friday-night-lights-tyler-cody/
LOCATION:Roots and Wings Distillery\, 7897 240th Street\, Langley\, British Columbia\, V1M 3P9\, Canada
CATEGORIES:Live Music
ATTACH;FMTTYPE=image/png:https://rootsandwingsdistillery.ca/wp-content/uploads/2025/07/Tyler-Cody-.png
END:VEVENT
END:VCALENDAR